FILENAME: O4810516.NES.1162574.tif
QUADRANGLE_NAME: NAVAJO
QUADRANT: NE
WEST_LONGITUDE: -105 3 45.00000
EAST_LONGITUDE: -105 0 0.00000
NORTH_LATITUDE: 48 52 30.00000
SOUTH_LATITUDE: 48 48 45.00000
PRODUCTION_DATE: 2001 9 23
RASTER_ORDER: LEFT_RIGHT/TOP_BOTTOM
BAND_ORGANIZATION: SINGLE FILE
BAND_CONTENT: BLACK&WHITE
BAND_CONTENT: UNDEFINED
BAND_CONTENT: UNDEFINED
BITS_PER_PIXEL: 8
SAMPLES_AND_LINES: 5238 7564
HORIZONTAL_DATUM: NAD83
HORIZONTAL_COORDINATE_SYSTEM: UTM
COORDINATE_ZONE: 13
HORIZONTAL_UNITS: meters
HORIZONTAL_RESOLUTION: 1.00000
SECONDARY_HORIZONTAL_DATUM: NAD27
XY_ORIGIN: 495067.00000 5413871.00000
SECONDARY_XY_ORIGIN: 495105.98500 5413649.15100
NATION: US
STATE: MT
NW_QUAD_CORNER_XY: 495417.16400 5413562.15800
NE_QUAD_CORNER_XY: 500000.00000 5413560.27600
SE_QUAD_CORNERY_XY: 500000.00000 5406612.63600
SW_QUAD_CORNER_XY: 495411.45700 5406614.52000
SECONDARY_NW_QUAD_XY: 495417.01700 5413343.15300
SECONDARY_NE_QUAD_XY: 500000.00000 5413341.27000
SECONDARY_SE_QUAD_XY: 500000.00000 5406393.63400
SECONDARY_SW_QUAD_XY: 495411.31100 5406395.51700
RMSE_XY: 3.71000
IMAGE_SOURCE: BLACK AND WHITE FILM
SOURCE_IMAGE_ID: NAPP 10725-062
SOURCE_IMAGE_DATE: 1997 9 2
SOURCE_DEM_DATE: 1998 0 0
AGENCY: WESTERN MAPPING CENTER (WMC)
PRODUCER: WOOLPERT LLP
PRODUCTION_SYSTEM: INTERGRAPH ISPM, ISIR
COMPRESSION: UNDEFINED
STANDARD_VERSION: 1996 12
METADATA_DATE: 2001 9 23
DATA_FILE_SIZE: 39625470
BYTE_COUNT: 5238
