FILENAME: O4810517.SES.1165533.tif
QUADRANGLE_NAME: WEST FORK
QUADRANT: SE
WEST_LONGITUDE: -105 56 15.00000
EAST_LONGITUDE: -105 52 30.00000
NORTH_LATITUDE: 48 41 15.00000
SOUTH_LATITUDE: 48 37 30.00000
PRODUCTION_DATE: 2001 9 15
RASTER_ORDER: LEFT_RIGHT/TOP_BOTTOM
BAND_ORGANIZATION: SINGLE FILE
BAND_CONTENT: BLACK&WHITE
BAND_CONTENT: UNDEFINED
BAND_CONTENT: UNDEFINED
BITS_PER_PIXEL: 8
SAMPLES_AND_LINES: 5338 7616
HORIZONTAL_DATUM: NAD83
HORIZONTAL_COORDINATE_SYSTEM: UTM
COORDINATE_ZONE: 13
HORIZONTAL_UNITS: meters
HORIZONTAL_RESOLUTION: 1.00000
SECONDARY_HORIZONTAL_DATUM: NAD27
XY_ORIGIN: 430569.00000 5393450.00000
SECONDARY_XY_ORIGIN: 430608.61800 5393227.65700
NATION: US
STATE: MT
NW_QUAD_CORNER_XY: 431001.31500 5393141.60600
NE_QUAD_CORNER_XY: 435601.18000 5393086.95300
SE_QUAD_CORNERY_XY: 435521.52100 5386139.64300
SW_QUAD_CORNER_XY: 430915.96500 5386194.31100
SECONDARY_NW_QUAD_XY: 430999.11300 5392922.62700
SECONDARY_NE_QUAD_XY: 435599.12500 5392867.97100
SECONDARY_SE_QUAD_XY: 435519.46500 5385920.66800
SECONDARY_SW_QUAD_XY: 430913.76300 5385975.33800
RMSE_XY: 2.99000
IMAGE_SOURCE: BLACK AND WHITE FILM
SOURCE_IMAGE_ID: NAPP 9088-127
SOURCE_IMAGE_DATE: 1996 7 7
SOURCE_DEM_DATE: 1998 0 0
AGENCY: WESTERN MAPPING CENTER (WMC)
PRODUCER: WOOLPERT LLP
PRODUCTION_SYSTEM: INTERGRAPH ISPM, ISIR
COMPRESSION: UNDEFINED
STANDARD_VERSION: 1996 12
METADATA_DATE: 2001 9 17
DATA_FILE_SIZE: 40659546
BYTE_COUNT: 5338
