FILENAME: O4810517.NWS.1165532.tif
QUADRANGLE_NAME: WEST FORK
QUADRANT: NW
WEST_LONGITUDE: -106 0 0.00000
EAST_LONGITUDE: -105 56 15.00000
NORTH_LATITUDE: 48 45 0.00000
SOUTH_LATITUDE: 48 41 15.00000
PRODUCTION_DATE: 2001 9 15
RASTER_ORDER: LEFT_RIGHT/TOP_BOTTOM
BAND_ORGANIZATION: SINGLE FILE
BAND_CONTENT: BLACK&WHITE
BAND_CONTENT: UNDEFINED
BAND_CONTENT: UNDEFINED
BITS_PER_PIXEL: 8
SAMPLES_AND_LINES: 5338 7620
HORIZONTAL_DATUM: NAD83
HORIZONTAL_COORDINATE_SYSTEM: UTM
COORDINATE_ZONE: 13
HORIZONTAL_UNITS: meters
HORIZONTAL_RESOLUTION: 1.00000
SECONDARY_HORIZONTAL_DATUM: NAD27
XY_ORIGIN: 426054.00000 5400456.00000
SECONDARY_XY_ORIGIN: 426093.60300 5400233.54300
NATION: US
STATE: MT
NW_QUAD_CORNER_XY: 426492.58900 5400147.38100
NE_QUAD_CORNER_XY: 431086.74800 5400088.97400
SE_QUAD_CORNERY_XY: 431001.31500 5393141.60600
SW_QUAD_CORNER_XY: 426401.46000 5393200.02900
SECONDARY_NW_QUAD_XY: 426490.24000 5399928.39800
SECONDARY_NE_QUAD_XY: 431084.54600 5399869.99000
SECONDARY_SE_QUAD_XY: 430999.11300 5392922.62700
SECONDARY_SW_QUAD_XY: 426399.11100 5392981.05100
RMSE_XY: 3.83000
IMAGE_SOURCE: BLACK AND WHITE FILM
SOURCE_IMAGE_ID: NAPP 9088-133
SOURCE_IMAGE_DATE: 1996 7 7
SOURCE_DEM_DATE: 1998 0 0
AGENCY: WESTERN MAPPING CENTER (WMC)
PRODUCER: WOOLPERT LLP
PRODUCTION_SYSTEM: INTERGRAPH ISPM, ISIR
COMPRESSION: UNDEFINED
STANDARD_VERSION: 1996 12
METADATA_DATE: 2001 9 17
DATA_FILE_SIZE: 40680898
BYTE_COUNT: 5338
