FILENAME: O4810520.NWS.1165574.tif
QUADRANGLE_NAME: SOUTH OF FOUR BUTTES
QUADRANT: NW
WEST_LONGITUDE: -105 37 30.00000
EAST_LONGITUDE: -105 33 45.00000
NORTH_LATITUDE: 48 45 0.00000
SOUTH_LATITUDE: 48 41 15.00000
PRODUCTION_DATE: 2001 9 15
RASTER_ORDER: LEFT_RIGHT/TOP_BOTTOM
BAND_ORGANIZATION: SINGLE FILE
BAND_CONTENT: BLACK&WHITE
BAND_CONTENT: UNDEFINED
BAND_CONTENT: UNDEFINED
BITS_PER_PIXEL: 8
SAMPLES_AND_LINES: 5303 7597
HORIZONTAL_DATUM: NAD83
HORIZONTAL_COORDINATE_SYSTEM: UTM
COORDINATE_ZONE: 13
HORIZONTAL_UNITS: meters
HORIZONTAL_RESOLUTION: 1.00000
SECONDARY_HORIZONTAL_DATUM: NAD27
XY_ORIGIN: 453654.00000 5400162.00000
SECONDARY_XY_ORIGIN: 453693.45900 5399939.95500
NATION: US
STATE: MT
NW_QUAD_CORNER_XY: 454057.68500 5399853.47000
NE_QUAD_CORNER_XY: 458651.89600 5399817.67400
SE_QUAD_CORNERY_XY: 458600.63900 5392870.22900
SW_QUAD_CORNER_XY: 454000.73200 5392906.03500
SECONDARY_NW_QUAD_XY: 454056.21700 5399634.47800
SECONDARY_NE_QUAD_XY: 458650.57500 5399598.68100
SECONDARY_SE_QUAD_XY: 458599.31700 5392651.24100
SECONDARY_SW_QUAD_XY: 453999.26400 5392687.04800
RMSE_XY: 3.64000
IMAGE_SOURCE: BLACK AND WHITE FILM
SOURCE_IMAGE_ID: NAPP 9094-100
SOURCE_IMAGE_DATE: 1996 7 9
SOURCE_DEM_DATE: 1998 0 0
AGENCY: WESTERN MAPPING CENTER (WMC)
PRODUCER: WOOLPERT LLP
PRODUCTION_SYSTEM: INTERGRAPH ISPM, ISIR
COMPRESSION: UNDEFINED
STANDARD_VERSION: 1996 12
METADATA_DATE: 2001 9 17
DATA_FILE_SIZE: 40292194
BYTE_COUNT: 5303
