FILENAME: O4810520.NES.1165572.tif
QUADRANGLE_NAME: SOUTH OF FOUR BUTTES
QUADRANT: NE
WEST_LONGITUDE: -105 33 45.00000
EAST_LONGITUDE: -105 30 0.00000
NORTH_LATITUDE: 48 45 0.00000
SOUTH_LATITUDE: 48 41 15.00000
PRODUCTION_DATE: 2001 9 15
RASTER_ORDER: LEFT_RIGHT/TOP_BOTTOM
BAND_ORGANIZATION: SINGLE FILE
BAND_CONTENT: BLACK&WHITE
BAND_CONTENT: UNDEFINED
BAND_CONTENT: UNDEFINED
BITS_PER_PIXEL: 8
SAMPLES_AND_LINES: 5298 7593
HORIZONTAL_DATUM: NAD83
HORIZONTAL_COORDINATE_SYSTEM: UTM
COORDINATE_ZONE: 13
HORIZONTAL_UNITS: meters
HORIZONTAL_RESOLUTION: 1.00000
SECONDARY_HORIZONTAL_DATUM: NAD27
XY_ORIGIN: 458254.00000 5400126.00000
SECONDARY_XY_ORIGIN: 458293.42500 5399904.01300
NATION: US
STATE: MT
NW_QUAD_CORNER_XY: 458651.89600 5399817.67400
NE_QUAD_CORNER_XY: 463246.11400 5399785.64600
SE_QUAD_CORNERY_XY: 463200.55200 5392838.19200
SW_QUAD_CORNER_XY: 458600.63900 5392870.22900
SECONDARY_NW_QUAD_XY: 458650.57500 5399598.68100
SECONDARY_NE_QUAD_XY: 463244.93900 5399566.65200
SECONDARY_SE_QUAD_XY: 463199.37700 5392619.20300
SECONDARY_SW_QUAD_XY: 458599.31700 5392651.24100
RMSE_XY: 4.33000
IMAGE_SOURCE: BLACK AND WHITE FILM
SOURCE_IMAGE_ID: NAPP 9094-079
SOURCE_IMAGE_DATE: 1996 7 9
SOURCE_DEM_DATE: 1998 0 0
AGENCY: WESTERN MAPPING CENTER (WMC)
PRODUCER: WOOLPERT LLP
PRODUCTION_SYSTEM: INTERGRAPH ISPM, ISIR
COMPRESSION: UNDEFINED
STANDARD_VERSION: 1996 12
METADATA_DATE: 2001 9 17
DATA_FILE_SIZE: 40233012
BYTE_COUNT: 5298
