FILENAME: O4810521.NWS.1162615.tif
QUADRANGLE_NAME: CABARETT COULEE
QUADRANT: NW
WEST_LONGITUDE: -105 30 0.00000
EAST_LONGITUDE: -105 26 15.00000
NORTH_LATITUDE: 48 45 0.00000
SOUTH_LATITUDE: 48 41 15.00000
PRODUCTION_DATE: 2001 9 23
RASTER_ORDER: LEFT_RIGHT/TOP_BOTTOM
BAND_ORGANIZATION: SINGLE FILE
BAND_CONTENT: BLACK&WHITE
BAND_CONTENT: UNDEFINED
BAND_CONTENT: UNDEFINED
BITS_PER_PIXEL: 8
SAMPLES_AND_LINES: 5292 7590
HORIZONTAL_DATUM: NAD83
HORIZONTAL_COORDINATE_SYSTEM: UTM
COORDINATE_ZONE: 13
HORIZONTAL_UNITS: meters
HORIZONTAL_RESOLUTION: 1.00000
SECONDARY_HORIZONTAL_DATUM: NAD27
XY_ORIGIN: 462854.00000 5400094.00000
SECONDARY_XY_ORIGIN: 462893.39100 5399872.07000
NATION: US
STATE: MT
NW_QUAD_CORNER_XY: 463246.11400 5399785.64600
NE_QUAD_CORNER_XY: 467840.33700 5399757.38700
SE_QUAD_CORNERY_XY: 467800.47100 5392809.92500
SW_QUAD_CORNER_XY: 463200.55200 5392838.19200
SECONDARY_NW_QUAD_XY: 463244.93900 5399566.65200
SECONDARY_NE_QUAD_XY: 467839.31000 5399538.39200
SECONDARY_SE_QUAD_XY: 467799.44300 5392590.93500
SECONDARY_SW_QUAD_XY: 463199.37700 5392619.20300
RMSE_XY: 4.97000
IMAGE_SOURCE: BLACK AND WHITE FILM
SOURCE_IMAGE_ID: NAPP 9093-139
SOURCE_IMAGE_DATE: 1996 7 9
SOURCE_DEM_DATE: 1998 0 0
AGENCY: WESTERN MAPPING CENTER (WMC)
PRODUCER: WOOLPERT LLP
PRODUCTION_SYSTEM: INTERGRAPH ISPM, ISIR
COMPRESSION: UNDEFINED
STANDARD_VERSION: 1996 12
METADATA_DATE: 2001 9 23
DATA_FILE_SIZE: 40171572
BYTE_COUNT: 5292
