FILENAME: O4810523.SES.1162592.tif
QUADRANGLE_NAME: PLEASANT PRAIRIE NW
QUADRANT: SE
WEST_LONGITUDE: -105 11 15.00000
EAST_LONGITUDE: -105 7 30.00000
NORTH_LATITUDE: 48 41 15.00000
SOUTH_LATITUDE: 48 37 30.00000
PRODUCTION_DATE: 2001 9 27
RASTER_ORDER: LEFT_RIGHT/TOP_BOTTOM
BAND_ORGANIZATION: SINGLE FILE
BAND_CONTENT: BLACK&WHITE
BAND_CONTENT: UNDEFINED
BAND_CONTENT: UNDEFINED
BITS_PER_PIXEL: 8
SAMPLES_AND_LINES: 5268 7571
HORIZONTAL_DATUM: NAD83
HORIZONTAL_COORDINATE_SYSTEM: UTM
COORDINATE_ZONE: 13
HORIZONTAL_UNITS: meters
HORIZONTAL_RESOLUTION: 1.00000
SECONDARY_HORIZONTAL_DATUM: NAD27
XY_ORIGIN: 485838.00000 5393043.00000
SECONDARY_XY_ORIGIN: 485877.17100 5392821.18900
NATION: US
STATE: MT
NW_QUAD_CORNER_XY: 486200.18800 5392734.54500
NE_QUAD_CORNER_XY: 490800.12400 5392725.12300
SE_QUAD_CORNERY_XY: 490788.74500 5385777.71300
SW_QUAD_CORNER_XY: 486183.11900 5385787.13800
SECONDARY_NW_QUAD_XY: 486199.74700 5392515.55300
SECONDARY_NE_QUAD_XY: 490799.83000 5392506.13000
SECONDARY_SE_QUAD_XY: 490788.45100 5385558.72600
SECONDARY_SW_QUAD_XY: 486182.67900 5385568.15200
RMSE_XY: 3.10000
IMAGE_SOURCE: BLACK AND WHITE FILM
SOURCE_IMAGE_ID: NAPP 9108-136
SOURCE_IMAGE_DATE: 1996 8 8
SOURCE_DEM_DATE: 1998 0 0
AGENCY: WESTERN MAPPING CENTER (WMC)
PRODUCER: WOOLPERT LLP
PRODUCTION_SYSTEM: INTERGRAPH ISPM, ISIR
COMPRESSION: UNDEFINED
STANDARD_VERSION: 1996 12
METADATA_DATE: 2001 9 27
DATA_FILE_SIZE: 39889296
BYTE_COUNT: 5268
