FILENAME: O4810524.NWS.1162579.tif
QUADRANGLE_NAME: PLEASANT PRAIRIE NE
QUADRANT: NW
WEST_LONGITUDE: -105 7 30.00000
EAST_LONGITUDE: -105 3 45.00000
NORTH_LATITUDE: 48 45 0.00000
SOUTH_LATITUDE: 48 41 15.00000
PRODUCTION_DATE: 2001 9 23
RASTER_ORDER: LEFT_RIGHT/TOP_BOTTOM
BAND_ORGANIZATION: SINGLE FILE
BAND_CONTENT: BLACK&WHITE
BAND_CONTENT: UNDEFINED
BAND_CONTENT: UNDEFINED
BITS_PER_PIXEL: 8
SAMPLES_AND_LINES: 5256 7567
HORIZONTAL_DATUM: NAD83
HORIZONTAL_COORDINATE_SYSTEM: UTM
COORDINATE_ZONE: 13
HORIZONTAL_UNITS: meters
HORIZONTAL_RESOLUTION: 1.00000
SECONDARY_HORIZONTAL_DATUM: NAD27
XY_ORIGIN: 490455.00000 5399981.00000
SECONDARY_XY_ORIGIN: 490494.07900 5399759.12600
NATION: US
STATE: MT
NW_QUAD_CORNER_XY: 490811.51400 5399672.60900
NE_QUAD_CORNER_XY: 495405.75700 5399666.95700
SE_QUAD_CORNERY_XY: 495400.06200 5392719.47000
SW_QUAD_CORNER_XY: 490800.12400 5392725.12300
SECONDARY_NW_QUAD_XY: 490811.22100 5399453.61100
SECONDARY_NE_QUAD_XY: 495405.61000 5399447.95900
SECONDARY_SE_QUAD_XY: 495399.91500 5392500.47700
SECONDARY_SW_QUAD_XY: 490799.83000 5392506.13000
RMSE_XY: 2.73000
IMAGE_SOURCE: BLACK AND WHITE FILM
SOURCE_IMAGE_ID: NAPP 9103-112
SOURCE_IMAGE_DATE: 1996 7 15
SOURCE_DEM_DATE: 1998 0 0
AGENCY: WESTERN MAPPING CENTER (WMC)
PRODUCER: WOOLPERT LLP
PRODUCTION_SYSTEM: INTERGRAPH ISPM, ISIR
COMPRESSION: UNDEFINED
STANDARD_VERSION: 1996 12
METADATA_DATE: 2001 9 23
DATA_FILE_SIZE: 39777408
BYTE_COUNT: 5256
