FILENAME: O4810529.NES.1162618.tif
QUADRANGLE_NAME: NIELSEN COULEE
QUADRANT: NE
WEST_LONGITUDE: -105 26 15.00000
EAST_LONGITUDE: -105 22 30.00000
NORTH_LATITUDE: 48 37 30.00000
SOUTH_LATITUDE: 48 33 45.00000
PRODUCTION_DATE: 2001 9 23
RASTER_ORDER: LEFT_RIGHT/TOP_BOTTOM
BAND_ORGANIZATION: SINGLE FILE
BAND_CONTENT: BLACK&WHITE
BAND_CONTENT: UNDEFINED
BAND_CONTENT: UNDEFINED
BITS_PER_PIXEL: 8
SAMPLES_AND_LINES: 5297 7586
HORIZONTAL_DATUM: NAD83
HORIZONTAL_COORDINATE_SYSTEM: UTM
COORDINATE_ZONE: 13
HORIZONTAL_UNITS: meters
HORIZONTAL_RESOLUTION: 1.00000
SECONDARY_HORIZONTAL_DATUM: NAD27
XY_ORIGIN: 467375.00000 5386171.00000
SECONDARY_XY_ORIGIN: 467414.39900 5385949.17100
NATION: US
STATE: MT
NW_QUAD_CORNER_XY: 467760.64300 5385862.53800
NE_QUAD_CORNER_XY: 472366.25600 5385838.03300
SE_QUAD_CORNERY_XY: 472332.15200 5378890.71600
SW_QUAD_CORNER_XY: 467720.85400 5378915.22700
SECONDARY_NW_QUAD_XY: 467759.61500 5385643.55400
SECONDARY_NE_QUAD_XY: 472365.37600 5385619.04800
SECONDARY_SE_QUAD_XY: 472331.27100 5378671.73700
SECONDARY_SW_QUAD_XY: 467719.82600 5378696.25000
RMSE_XY: 2.98000
IMAGE_SOURCE: BLACK AND WHITE FILM
SOURCE_IMAGE_ID: NAPP 9093-114
SOURCE_IMAGE_DATE: 1996 7 9
SOURCE_DEM_DATE: 1998 0 0
AGENCY: WESTERN MAPPING CENTER (WMC)
PRODUCER: WOOLPERT LLP
PRODUCTION_SYSTEM: INTERGRAPH ISPM, ISIR
COMPRESSION: UNDEFINED
STANDARD_VERSION: 1996 12
METADATA_DATE: 2001 9 23
DATA_FILE_SIZE: 40188339
BYTE_COUNT: 5297
