FILENAME: O4810531.SWS.1162645.tif
QUADRANGLE_NAME: PLEASANT PRAIRIE SW
QUADRANT: SW
WEST_LONGITUDE: -105 15 0.00000
EAST_LONGITUDE: -105 11 15.00000
NORTH_LATITUDE: 48 33 45.00000
SOUTH_LATITUDE: 48 30 0.00000
PRODUCTION_DATE: 2001 9 23
RASTER_ORDER: LEFT_RIGHT/TOP_BOTTOM
BAND_ORGANIZATION: SINGLE FILE
BAND_CONTENT: BLACK&WHITE
BAND_CONTENT: UNDEFINED
BAND_CONTENT: UNDEFINED
BITS_PER_PIXEL: 8
SAMPLES_AND_LINES: 5285 7574
HORIZONTAL_DATUM: NAD83
HORIZONTAL_COORDINATE_SYSTEM: UTM
COORDINATE_ZONE: 13
HORIZONTAL_UNITS: meters
HORIZONTAL_RESOLUTION: 1.00000
SECONDARY_HORIZONTAL_DATUM: NAD27
XY_ORIGIN: 481187.00000 5379161.00000
SECONDARY_XY_ORIGIN: 481226.29900 5378939.32900
NATION: US
STATE: MT
NW_QUAD_CORNER_XY: 481554.75900 5378853.00500
NE_QUAD_CORNER_XY: 486166.06700 5378839.80700
SE_QUAD_CORNERY_XY: 486149.03100 5371892.55100
SW_QUAD_CORNER_XY: 481532.04500 5371905.75300
SECONDARY_NW_QUAD_XY: 481554.17200 5378634.02600
SECONDARY_NE_QUAD_XY: 486165.62600 5378620.82700
SECONDARY_SE_QUAD_XY: 486148.59100 5371673.57900
SECONDARY_SW_QUAD_XY: 481531.45700 5371686.78100
RMSE_XY: 3.52000
IMAGE_SOURCE: BLACK AND WHITE FILM
SOURCE_IMAGE_ID: NAPP 10725-046
SOURCE_IMAGE_DATE: 1997 9 2
SOURCE_DEM_DATE: 1998 0 0
AGENCY: WESTERN MAPPING CENTER (WMC)
PRODUCER: WOOLPERT LLP
PRODUCTION_SYSTEM: INTERGRAPH ISPM, ISIR
COMPRESSION: UNDEFINED
STANDARD_VERSION: 1996 12
METADATA_DATE: 2001 9 23
DATA_FILE_SIZE: 40033875
BYTE_COUNT: 5285
