FILENAME: O4810533.SES.1165583.tif
QUADRANGLE_NAME: LUSTRE
QUADRANT: SE
WEST_LONGITUDE: -105 56 15.00000
EAST_LONGITUDE: -105 52 30.00000
NORTH_LATITUDE: 48 26 15.00000
SOUTH_LATITUDE: 48 22 30.00000
PRODUCTION_DATE: 2001 9 15
RASTER_ORDER: LEFT_RIGHT/TOP_BOTTOM
BAND_ORGANIZATION: SINGLE FILE
BAND_CONTENT: BLACK&WHITE
BAND_CONTENT: UNDEFINED
BAND_CONTENT: UNDEFINED
BITS_PER_PIXEL: 8
SAMPLES_AND_LINES: 5361 7616
HORIZONTAL_DATUM: NAD83
HORIZONTAL_COORDINATE_SYSTEM: UTM
COORDINATE_ZONE: 13
HORIZONTAL_UNITS: meters
HORIZONTAL_RESOLUTION: 1.00000
SECONDARY_HORIZONTAL_DATUM: NAD27
XY_ORIGIN: 430228.00000 5365662.00000
SECONDARY_XY_ORIGIN: 430267.78500 5365439.89900
NATION: US
STATE: MT
NW_QUAD_CORNER_XY: 430660.41200 5365352.87000
NE_QUAD_CORNER_XY: 435283.00700 5365298.15700
SE_QUAD_CORNERY_XY: 435203.65800 5358351.14400
SW_QUAD_CORNER_XY: 430575.39400 5358405.87000
SECONDARY_NW_QUAD_XY: 430658.21000 5365133.91900
SECONDARY_NE_QUAD_XY: 435280.95200 5365079.20500
SECONDARY_SE_QUAD_XY: 435201.60300 5358132.20100
SECONDARY_SW_QUAD_XY: 430573.19200 5358186.92900
RMSE_XY: 3.19000
IMAGE_SOURCE: BLACK AND WHITE FILM
SOURCE_IMAGE_ID: NAPP 9088-119
SOURCE_IMAGE_DATE: 1996 7 7
SOURCE_DEM_DATE: 1998 0 0
AGENCY: WESTERN MAPPING CENTER (WMC)
PRODUCER: WOOLPERT LLP
PRODUCTION_SYSTEM: INTERGRAPH ISPM, ISIR
COMPRESSION: UNDEFINED
STANDARD_VERSION: 1996 12
METADATA_DATE: 2001 9 17
DATA_FILE_SIZE: 40834737
BYTE_COUNT: 5361
