FILENAME: O4810535.SWS.1165676.tif
QUADRANGLE_NAME: VOLT
QUADRANT: SW
WEST_LONGITUDE: -105 45 0.00000
EAST_LONGITUDE: -105 41 15.00000
NORTH_LATITUDE: 48 26 15.00000
SOUTH_LATITUDE: 48 22 30.00000
PRODUCTION_DATE: 2001 9 15
RASTER_ORDER: LEFT_RIGHT/TOP_BOTTOM
BAND_ORGANIZATION: SINGLE FILE
BAND_CONTENT: BLACK&WHITE
BAND_CONTENT: UNDEFINED
BAND_CONTENT: UNDEFINED
BITS_PER_PIXEL: 8
SAMPLES_AND_LINES: 5343 7604
HORIZONTAL_DATUM: NAD83
HORIZONTAL_COORDINATE_SYSTEM: UTM
COORDINATE_ZONE: 13
HORIZONTAL_UNITS: meters
HORIZONTAL_RESOLUTION: 1.00000
SECONDARY_HORIZONTAL_DATUM: NAD27
XY_ORIGIN: 444113.00000 5365508.00000
SECONDARY_XY_ORIGIN: 444152.67000 5365286.09100
NATION: US
STATE: MT
NW_QUAD_CORNER_XY: 444528.22400 5365200.05400
NE_QUAD_CORNER_XY: 449150.84400 5365156.66300
SE_QUAD_CORNERY_XY: 449088.50000 5358209.61300
SW_QUAD_CORNER_XY: 444460.21100 5358253.01500
SECONDARY_NW_QUAD_XY: 444526.46300 5364981.09900
SECONDARY_NE_QUAD_XY: 449149.23000 5364937.70600
SECONDARY_SE_QUAD_XY: 449086.88500 5357990.66500
SECONDARY_SW_QUAD_XY: 444458.45000 5358034.06900
RMSE_XY: 3.83000
IMAGE_SOURCE: BLACK AND WHITE FILM
SOURCE_IMAGE_ID: NAPP 9105-158
SOURCE_IMAGE_DATE: 1996 8 1
SOURCE_DEM_DATE: 1998 0 0
AGENCY: WESTERN MAPPING CENTER (WMC)
PRODUCER: WOOLPERT LLP
PRODUCTION_SYSTEM: INTERGRAPH ISPM, ISIR
COMPRESSION: UNDEFINED
STANDARD_VERSION: 1996 12
METADATA_DATE: 2001 9 17
DATA_FILE_SIZE: 40633515
BYTE_COUNT: 5343
