FILENAME: O4810536.SWS.1165623.tif
QUADRANGLE_NAME: REED SPRINGS
QUADRANT: SW
WEST_LONGITUDE: -105 37 30.00000
EAST_LONGITUDE: -105 33 45.00000
NORTH_LATITUDE: 48 26 15.00000
SOUTH_LATITUDE: 48 22 30.00000
PRODUCTION_DATE: 2001 9 15
RASTER_ORDER: LEFT_RIGHT/TOP_BOTTOM
BAND_ORGANIZATION: SINGLE FILE
BAND_CONTENT: BLACK&WHITE
BAND_CONTENT: UNDEFINED
BAND_CONTENT: UNDEFINED
BITS_PER_PIXEL: 8
SAMPLES_AND_LINES: 5332 7596
HORIZONTAL_DATUM: NAD83
HORIZONTAL_COORDINATE_SYSTEM: UTM
COORDINATE_ZONE: 13
HORIZONTAL_UNITS: meters
HORIZONTAL_RESOLUTION: 1.00000
SECONDARY_HORIZONTAL_DATUM: NAD27
XY_ORIGIN: 453370.00000 5365425.00000
SECONDARY_XY_ORIGIN: 453409.61100 5365203.19700
NATION: US
STATE: MT
NW_QUAD_CORNER_XY: 453773.47200 5365117.04500
NE_QUAD_CORNER_XY: 458396.10600 5365081.20000
SE_QUAD_CORNERY_XY: 458345.09800 5358134.13100
SW_QUAD_CORNER_XY: 453716.79600 5358169.98500
SECONDARY_NW_QUAD_XY: 453772.00400 5364898.08700
SECONDARY_NE_QUAD_XY: 458394.78500 5364862.24100
SECONDARY_SE_QUAD_XY: 458343.77700 5357915.18100
SECONDARY_SW_QUAD_XY: 453715.32800 5357951.03600
RMSE_XY: 2.83000
IMAGE_SOURCE: BLACK AND WHITE FILM
SOURCE_IMAGE_ID: NAPP 9094-110
SOURCE_IMAGE_DATE: 1996 7 9
SOURCE_DEM_DATE: 1998 0 0
AGENCY: WESTERN MAPPING CENTER (WMC)
PRODUCER: WOOLPERT LLP
PRODUCTION_SYSTEM: INTERGRAPH ISPM, ISIR
COMPRESSION: UNDEFINED
STANDARD_VERSION: 1996 12
METADATA_DATE: 2001 9 17
DATA_FILE_SIZE: 40507204
BYTE_COUNT: 5332
