FILENAME: O4810537.SES.1162624.tif
QUADRANGLE_NAME: BEARS NEST
QUADRANT: SE
WEST_LONGITUDE: -105 26 15.00000
EAST_LONGITUDE: -105 22 30.00000
NORTH_LATITUDE: 48 26 15.00000
SOUTH_LATITUDE: 48 22 30.00000
PRODUCTION_DATE: 2001 9 23
RASTER_ORDER: LEFT_RIGHT/TOP_BOTTOM
BAND_ORGANIZATION: SINGLE FILE
BAND_CONTENT: BLACK&WHITE
BAND_CONTENT: UNDEFINED
BAND_CONTENT: UNDEFINED
BITS_PER_PIXEL: 8
SAMPLES_AND_LINES: 5314 7585
HORIZONTAL_DATUM: NAD83
HORIZONTAL_COORDINATE_SYSTEM: UTM
COORDINATE_ZONE: 13
HORIZONTAL_UNITS: meters
HORIZONTAL_RESOLUTION: 1.00000
SECONDARY_HORIZONTAL_DATUM: NAD27
XY_ORIGIN: 467256.00000 5365329.00000
SECONDARY_XY_ORIGIN: 467295.50600 5365107.35300
NATION: US
STATE: MT
NW_QUAD_CORNER_XY: 467641.39200 5365020.83100
NE_QUAD_CORNER_XY: 472264.04200 5364996.30600
SE_QUAD_CORNERY_XY: 472230.03600 5358049.21500
SW_QUAD_CORNER_XY: 467601.71900 5358073.74600
SECONDARY_NW_QUAD_XY: 467640.36400 5364801.87000
SECONDARY_NE_QUAD_XY: 472263.16100 5364777.34500
SECONDARY_SE_QUAD_XY: 472229.15600 5357830.26300
SECONDARY_SW_QUAD_XY: 467600.69200 5357854.79500
RMSE_XY: 2.31000
IMAGE_SOURCE: BLACK AND WHITE FILM
SOURCE_IMAGE_ID: NAPP 9093-108
SOURCE_IMAGE_DATE: 1996 7 9
SOURCE_DEM_DATE: 1998 0 0
AGENCY: WESTERN MAPPING CENTER (WMC)
PRODUCER: WOOLPERT LLP
PRODUCTION_SYSTEM: INTERGRAPH ISPM, ISIR
COMPRESSION: UNDEFINED
STANDARD_VERSION: 1996 12
METADATA_DATE: 2001 9 23
DATA_FILE_SIZE: 40312004
BYTE_COUNT: 5314
