FILENAME: O4810537.NWS.1162623.tif
QUADRANGLE_NAME: BEARS NEST
QUADRANT: NW
WEST_LONGITUDE: -105 30 0.00000
EAST_LONGITUDE: -105 26 15.00000
NORTH_LATITUDE: 48 30 0.00000
SOUTH_LATITUDE: 48 26 15.00000
PRODUCTION_DATE: 2001 9 23
RASTER_ORDER: LEFT_RIGHT/TOP_BOTTOM
BAND_ORGANIZATION: SINGLE FILE
BAND_CONTENT: BLACK&WHITE
BAND_CONTENT: UNDEFINED
BAND_CONTENT: UNDEFINED
BITS_PER_PIXEL: 8
SAMPLES_AND_LINES: 5314 7590
HORIZONTAL_DATUM: NAD83
HORIZONTAL_COORDINATE_SYSTEM: UTM
COORDINATE_ZONE: 13
HORIZONTAL_UNITS: meters
HORIZONTAL_RESOLUTION: 1.00000
SECONDARY_HORIZONTAL_DATUM: NAD27
XY_ORIGIN: 462673.00000 5372305.00000
SECONDARY_XY_ORIGIN: 462712.49600 5372083.22200
NATION: US
STATE: MT
NW_QUAD_CORNER_XY: 463064.13100 5371996.28200
NE_QUAD_CORNER_XY: 467681.10300 5371967.99200
SE_QUAD_CORNERY_XY: 467641.39200 5365020.83100
SW_QUAD_CORNER_XY: 463018.74600 5365049.12900
SECONDARY_NW_QUAD_XY: 463062.95700 5371777.31400
SECONDARY_NE_QUAD_XY: 467680.07600 5371749.02200
SECONDARY_SE_QUAD_XY: 467640.36400 5364801.87000
SECONDARY_SW_QUAD_XY: 463017.57200 5364830.16900
RMSE_XY: 4.78000
IMAGE_SOURCE: BLACK AND WHITE FILM
SOURCE_IMAGE_ID: NAPP 9093-147
SOURCE_IMAGE_DATE: 1996 7 9
SOURCE_DEM_DATE: 1998 0 0
AGENCY: WESTERN MAPPING CENTER (WMC)
PRODUCER: WOOLPERT LLP
PRODUCTION_SYSTEM: INTERGRAPH ISPM, ISIR
COMPRESSION: UNDEFINED
STANDARD_VERSION: 1996 12
METADATA_DATE: 2001 9 23
DATA_FILE_SIZE: 40338574
BYTE_COUNT: 5314
