FILENAME: O4810538.SWS.1162637.tif
QUADRANGLE_NAME: WINDY BUTTE
QUADRANT: SW
WEST_LONGITUDE: -105 22 30.00000
EAST_LONGITUDE: -105 18 45.00000
NORTH_LATITUDE: 48 26 15.00000
SOUTH_LATITUDE: 48 22 30.00000
PRODUCTION_DATE: 2001 9 23
RASTER_ORDER: LEFT_RIGHT/TOP_BOTTOM
BAND_ORGANIZATION: SINGLE FILE
BAND_CONTENT: BLACK&WHITE
BAND_CONTENT: UNDEFINED
BAND_CONTENT: UNDEFINED
BITS_PER_PIXEL: 8
SAMPLES_AND_LINES: 5308 7581
HORIZONTAL_DATUM: NAD83
HORIZONTAL_COORDINATE_SYSTEM: UTM
COORDINATE_ZONE: 13
HORIZONTAL_UNITS: meters
HORIZONTAL_RESOLUTION: 1.00000
SECONDARY_HORIZONTAL_DATUM: NAD27
XY_ORIGIN: 471884.00000 5365304.00000
SECONDARY_XY_ORIGIN: 471923.45900 5365082.40300
NATION: US
STATE: MT
NW_QUAD_CORNER_XY: 472264.04200 5364996.30600
NE_QUAD_CORNER_XY: 476886.69500 5364975.55500
SE_QUAD_CORNERY_XY: 476858.35800 5358028.45800
SW_QUAD_CORNER_XY: 472230.03600 5358049.21500
SECONDARY_NW_QUAD_XY: 472263.16100 5364777.34500
SECONDARY_NE_QUAD_XY: 476885.96100 5364756.59200
SECONDARY_SE_QUAD_XY: 476857.62400 5357809.50500
SECONDARY_SW_QUAD_XY: 472229.15600 5357830.26300
RMSE_XY: 2.16000
IMAGE_SOURCE: BLACK AND WHITE FILM
SOURCE_IMAGE_ID: NAPP 9116-115
SOURCE_IMAGE_DATE: 1996 8 27
SOURCE_DEM_DATE: 1998 0 0
AGENCY: WESTERN MAPPING CENTER (WMC)
PRODUCER: WOOLPERT LLP
PRODUCTION_SYSTEM: INTERGRAPH ISPM, ISIR
COMPRESSION: UNDEFINED
STANDARD_VERSION: 1996 12
METADATA_DATE: 2001 9 23
DATA_FILE_SIZE: 40245256
BYTE_COUNT: 5308
