FILENAME: O4810539.NWS.1162647.tif
QUADRANGLE_NAME: HAY CREEK NW
QUADRANT: NW
WEST_LONGITUDE: -105 15 0.00000
EAST_LONGITUDE: -105 11 15.00000
NORTH_LATITUDE: 48 30 0.00000
SOUTH_LATITUDE: 48 26 15.00000
PRODUCTION_DATE: 2001 9 23
RASTER_ORDER: LEFT_RIGHT/TOP_BOTTOM
BAND_ORGANIZATION: SINGLE FILE
BAND_CONTENT: BLACK&WHITE
BAND_CONTENT: UNDEFINED
BAND_CONTENT: UNDEFINED
BITS_PER_PIXEL: 8
SAMPLES_AND_LINES: 5291 7574
HORIZONTAL_DATUM: NAD83
HORIZONTAL_COORDINATE_SYSTEM: UTM
COORDINATE_ZONE: 13
HORIZONTAL_UNITS: meters
HORIZONTAL_RESOLUTION: 1.00000
SECONDARY_HORIZONTAL_DATUM: NAD27
XY_ORIGIN: 481164.00000 5372214.00000
SECONDARY_XY_ORIGIN: 481203.33500 5371992.41100
NATION: US
STATE: MT
NW_QUAD_CORNER_XY: 481532.04500 5371905.75300
NE_QUAD_CORNER_XY: 486149.03100 5371892.55100
SE_QUAD_CORNERY_XY: 486132.01200 5364945.37100
SW_QUAD_CORNER_XY: 481509.35200 5364958.57600
SECONDARY_NW_QUAD_XY: 481531.45700 5371686.78100
SECONDARY_NE_QUAD_XY: 486148.59100 5371673.57900
SECONDARY_SE_QUAD_XY: 486131.57200 5364726.40700
SECONDARY_SW_QUAD_XY: 481508.76500 5364739.61300
RMSE_XY: 3.85000
IMAGE_SOURCE: BLACK AND WHITE FILM
SOURCE_IMAGE_ID: NAPP 10725-044
SOURCE_IMAGE_DATE: 1997 9 2
SOURCE_DEM_DATE: 1998 0 0
AGENCY: WESTERN MAPPING CENTER (WMC)
PRODUCER: WOOLPERT LLP
PRODUCTION_SYSTEM: INTERGRAPH ISPM, ISIR
COMPRESSION: UNDEFINED
STANDARD_VERSION: 1996 12
METADATA_DATE: 2001 9 23
DATA_FILE_SIZE: 40079325
BYTE_COUNT: 5291
