FILENAME: O4810539.NES.1162646.tif
QUADRANGLE_NAME: HAY CREEK NW
QUADRANT: NE
WEST_LONGITUDE: -105 11 15.00000
EAST_LONGITUDE: -105 7 30.00000
NORTH_LATITUDE: 48 30 0.00000
SOUTH_LATITUDE: 48 26 15.00000
PRODUCTION_DATE: 2001 9 23
RASTER_ORDER: LEFT_RIGHT/TOP_BOTTOM
BAND_ORGANIZATION: SINGLE FILE
BAND_CONTENT: BLACK&WHITE
BAND_CONTENT: UNDEFINED
BAND_CONTENT: UNDEFINED
BITS_PER_PIXEL: 8
SAMPLES_AND_LINES: 5285 7571
HORIZONTAL_DATUM: NAD83
HORIZONTAL_COORDINATE_SYSTEM: UTM
COORDINATE_ZONE: 13
HORIZONTAL_UNITS: meters
HORIZONTAL_RESOLUTION: 1.00000
SECONDARY_HORIZONTAL_DATUM: NAD27
XY_ORIGIN: 485787.00000 5372201.00000
SECONDARY_XY_ORIGIN: 485826.27700 5371979.43200
NATION: US
STATE: MT
NW_QUAD_CORNER_XY: 486149.03100 5371892.55100
NE_QUAD_CORNER_XY: 490766.02000 5371883.12100
SE_QUAD_CORNERY_XY: 490754.67400 5364935.93800
SW_QUAD_CORNER_XY: 486132.01200 5364945.37100
SECONDARY_NW_QUAD_XY: 486148.59100 5371673.57900
SECONDARY_NE_QUAD_XY: 490765.72600 5371664.14800
SECONDARY_SE_QUAD_XY: 490754.38000 5364716.97400
SECONDARY_SW_QUAD_XY: 486131.57200 5364726.40700
RMSE_XY: 4.68000
IMAGE_SOURCE: BLACK AND WHITE FILM
SOURCE_IMAGE_ID: NAPP 9108-142
SOURCE_IMAGE_DATE: 1996 8 8
SOURCE_DEM_DATE: 1998 0 0
AGENCY: WESTERN MAPPING CENTER (WMC)
PRODUCER: WOOLPERT LLP
PRODUCTION_SYSTEM: INTERGRAPH ISPM, ISIR
COMPRESSION: UNDEFINED
STANDARD_VERSION: 1996 12
METADATA_DATE: 2001 9 23
DATA_FILE_SIZE: 40018020
BYTE_COUNT: 5285
