FILENAME: O4810540.SWS.1162661.tif
QUADRANGLE_NAME: HAY CREEK
QUADRANT: SW
WEST_LONGITUDE: -105 7 30.00000
EAST_LONGITUDE: -105 3 45.00000
NORTH_LATITUDE: 48 26 15.00000
SOUTH_LATITUDE: 48 22 30.00000
PRODUCTION_DATE: 2001 9 23
RASTER_ORDER: LEFT_RIGHT/TOP_BOTTOM
BAND_ORGANIZATION: SINGLE FILE
BAND_CONTENT: BLACK&WHITE
BAND_CONTENT: UNDEFINED
BAND_CONTENT: UNDEFINED
BITS_PER_PIXEL: 8
SAMPLES_AND_LINES: 5285 7566
HORIZONTAL_DATUM: NAD83
HORIZONTAL_COORDINATE_SYSTEM: UTM
COORDINATE_ZONE: 13
HORIZONTAL_UNITS: meters
HORIZONTAL_RESOLUTION: 1.00000
SECONDARY_HORIZONTAL_DATUM: NAD27
XY_ORIGIN: 490398.00000 5365244.00000
SECONDARY_XY_ORIGIN: 490437.26100 5365022.53200
NATION: US
STATE: MT
NW_QUAD_CORNER_XY: 490754.67400 5364935.93800
NE_QUAD_CORNER_XY: 495377.33600 5364930.27900
SE_QUAD_CORNERY_XY: 495371.66900 5357983.17000
SW_QUAD_CORNER_XY: 490743.33900 5357988.83100
SECONDARY_NW_QUAD_XY: 490754.38000 5364716.97400
SECONDARY_NE_QUAD_XY: 495377.19000 5364711.31500
SECONDARY_SE_QUAD_XY: 495371.52200 5357764.21600
SECONDARY_SW_QUAD_XY: 490743.04500 5357769.87700
RMSE_XY: 2.47000
IMAGE_SOURCE: BLACK AND WHITE FILM
SOURCE_IMAGE_ID: NAPP 9103-122
SOURCE_IMAGE_DATE: 1996 7 15
SOURCE_DEM_DATE: 1998 0 0
AGENCY: WESTERN MAPPING CENTER (WMC)
PRODUCER: WOOLPERT LLP
PRODUCTION_SYSTEM: INTERGRAPH ISPM, ISIR
COMPRESSION: UNDEFINED
STANDARD_VERSION: 1996 12
METADATA_DATE: 2001 9 23
DATA_FILE_SIZE: 39991595
BYTE_COUNT: 5285
