FILENAME: O4810541.SWS.1165588.tif
QUADRANGLE_NAME: TODD LAKES
QUADRANT: SW
WEST_LONGITUDE: -106 0 0.00000
EAST_LONGITUDE: -105 56 15.00000
NORTH_LATITUDE: 48 18 45.00000
SOUTH_LATITUDE: 48 15 0.00000
PRODUCTION_DATE: 2001 9 15
RASTER_ORDER: LEFT_RIGHT/TOP_BOTTOM
BAND_ORGANIZATION: SINGLE FILE
BAND_CONTENT: BLACK&WHITE
BAND_CONTENT: UNDEFINED
BAND_CONTENT: UNDEFINED
BITS_PER_PIXEL: 8
SAMPLES_AND_LINES: 5378 7619
HORIZONTAL_DATUM: NAD83
HORIZONTAL_COORDINATE_SYSTEM: UTM
COORDINATE_ZONE: 13
HORIZONTAL_UNITS: meters
HORIZONTAL_RESOLUTION: 1.00000
SECONDARY_HORIZONTAL_DATUM: NAD27
XY_ORIGIN: 425418.00000 5351826.00000
SECONDARY_XY_ORIGIN: 425457.96100 5351604.05300
NATION: US
STATE: MT
NW_QUAD_CORNER_XY: 425856.54200 5351517.46000
NE_QUAD_CORNER_XY: 430490.45900 5351458.94400
SE_QUAD_CORNERY_XY: 430405.60800 5344512.09200
SW_QUAD_CORNER_XY: 425766.03300 5344570.62300
SECONDARY_NW_QUAD_XY: 425854.19300 5351298.53100
SECONDARY_NE_QUAD_XY: 430488.25800 5351240.01300
SECONDARY_SE_QUAD_XY: 430403.40600 5344293.17300
SECONDARY_SW_QUAD_XY: 425763.68400 5344351.70500
RMSE_XY: 4.12000
IMAGE_SOURCE: BLACK AND WHITE FILM
SOURCE_IMAGE_ID: NAPP 9088-147
SOURCE_IMAGE_DATE: 1996 7 7
SOURCE_DEM_DATE: 1998 0 0
AGENCY: WESTERN MAPPING CENTER (WMC)
PRODUCER: WOOLPERT LLP
PRODUCTION_SYSTEM: INTERGRAPH ISPM, ISIR
COMPRESSION: UNDEFINED
STANDARD_VERSION: 1996 12
METADATA_DATE: 2001 9 17
DATA_FILE_SIZE: 40980360
BYTE_COUNT: 5378
