FILENAME: O4810541.SES.1165587.tif
QUADRANGLE_NAME: TODD LAKES
QUADRANT: SE
WEST_LONGITUDE: -105 56 15.00000
EAST_LONGITUDE: -105 52 30.00000
NORTH_LATITUDE: 48 18 45.00000
SOUTH_LATITUDE: 48 15 0.00000
PRODUCTION_DATE: 2001 9 15
RASTER_ORDER: LEFT_RIGHT/TOP_BOTTOM
BAND_ORGANIZATION: SINGLE FILE
BAND_CONTENT: BLACK&WHITE
BAND_CONTENT: UNDEFINED
BAND_CONTENT: UNDEFINED
BITS_PER_PIXEL: 8
SAMPLES_AND_LINES: 5372 7615
HORIZONTAL_DATUM: NAD83
HORIZONTAL_COORDINATE_SYSTEM: UTM
COORDINATE_ZONE: 13
HORIZONTAL_UNITS: meters
HORIZONTAL_RESOLUTION: 1.00000
SECONDARY_HORIZONTAL_DATUM: NAD27
XY_ORIGIN: 430058.00000 5351767.00000
SECONDARY_XY_ORIGIN: 430097.91500 5351545.11000
NATION: US
STATE: MT
NW_QUAD_CORNER_XY: 430490.45900 5351458.94400
NE_QUAD_CORNER_XY: 435124.38600 5351404.20400
SE_QUAD_CORNERY_XY: 435045.19200 5344457.33900
SW_QUAD_CORNER_XY: 430405.60800 5344512.09200
SECONDARY_NW_QUAD_XY: 430488.25800 5351240.01300
SECONDARY_NE_QUAD_XY: 435122.33100 5351185.27200
SECONDARY_SE_QUAD_XY: 435043.13700 5344238.41700
SECONDARY_SW_QUAD_XY: 430403.40600 5344293.17300
RMSE_XY: 3.51000
IMAGE_SOURCE: BLACK AND WHITE FILM
SOURCE_IMAGE_ID: NAPP 9088-115
SOURCE_IMAGE_DATE: 1996 7 7
SOURCE_DEM_DATE: 1998 0 0
AGENCY: WESTERN MAPPING CENTER (WMC)
PRODUCER: WOOLPERT LLP
PRODUCTION_SYSTEM: INTERGRAPH ISPM, ISIR
COMPRESSION: UNDEFINED
STANDARD_VERSION: 1996 12
METADATA_DATE: 2001 9 17
DATA_FILE_SIZE: 40913152
BYTE_COUNT: 5372
