FILENAME: O4810542.NES.1165597.tif
QUADRANGLE_NAME: TODD LAKES SE
QUADRANT: NE
WEST_LONGITUDE: -105 48 45.00000
EAST_LONGITUDE: -105 45 0.00000
NORTH_LATITUDE: 48 22 30.00000
SOUTH_LATITUDE: 48 18 45.00000
PRODUCTION_DATE: 2001 9 15
RASTER_ORDER: LEFT_RIGHT/TOP_BOTTOM
BAND_ORGANIZATION: SINGLE FILE
BAND_CONTENT: BLACK&WHITE
BAND_CONTENT: UNDEFINED
BAND_CONTENT: UNDEFINED
BITS_PER_PIXEL: 8
SAMPLES_AND_LINES: 5355 7608
HORIZONTAL_DATUM: NAD83
HORIZONTAL_COORDINATE_SYSTEM: UTM
COORDINATE_ZONE: 13
HORIZONTAL_UNITS: meters
HORIZONTAL_RESOLUTION: 1.00000
SECONDARY_HORIZONTAL_DATUM: NAD27
XY_ORIGIN: 439411.00000 5358609.00000
SECONDARY_XY_ORIGIN: 439450.76400 5358387.12500
NATION: US
STATE: MT
NW_QUAD_CORNER_XY: 439831.93000 5358300.19200
NE_QUAD_CORNER_XY: 444460.21100 5358253.01500
SE_QUAD_CORNERY_XY: 444392.26500 5351306.05100
SW_QUAD_CORNER_XY: 439758.32100 5351353.24000
SECONDARY_NW_QUAD_XY: 439830.02200 5358081.24800
SECONDARY_NE_QUAD_XY: 444458.45000 5358034.06900
SECONDARY_SE_QUAD_XY: 444390.50400 5351087.11500
SECONDARY_SW_QUAD_XY: 439756.41300 5351134.30500
RMSE_XY: 4.06000
IMAGE_SOURCE: BLACK AND WHITE FILM
SOURCE_IMAGE_ID: NAPP 11000-060
SOURCE_IMAGE_DATE: 1998 7 13
SOURCE_DEM_DATE: 1998 0 0
AGENCY: WESTERN MAPPING CENTER (WMC)
PRODUCER: WOOLPERT LLP
PRODUCTION_SYSTEM: INTERGRAPH ISPM, ISIR
COMPRESSION: UNDEFINED
STANDARD_VERSION: 1996 12
METADATA_DATE: 2001 9 17
DATA_FILE_SIZE: 40746195
BYTE_COUNT: 5355
