FILENAME: O4810543.SES.1165680.tif
QUADRANGLE_NAME: TULE VALLEY WEST
QUADRANT: SE
WEST_LONGITUDE: -105 41 15.00000
EAST_LONGITUDE: -105 37 30.00000
NORTH_LATITUDE: 48 18 45.00000
SOUTH_LATITUDE: 48 15 0.00000
PRODUCTION_DATE: 2001 9 15
RASTER_ORDER: LEFT_RIGHT/TOP_BOTTOM
BAND_ORGANIZATION: SINGLE FILE
BAND_CONTENT: BLACK&WHITE
BAND_CONTENT: UNDEFINED
BAND_CONTENT: UNDEFINED
BITS_PER_PIXEL: 8
SAMPLES_AND_LINES: 5349 7600
HORIZONTAL_DATUM: NAD83
HORIZONTAL_COORDINATE_SYSTEM: UTM
COORDINATE_ZONE: 13
HORIZONTAL_UNITS: meters
HORIZONTAL_RESOLUTION: 1.00000
SECONDARY_HORIZONTAL_DATUM: NAD27
XY_ORIGIN: 448617.00000 5351571.00000
SECONDARY_XY_ORIGIN: 448656.74300 5351349.32800
NATION: US
STATE: MT
NW_QUAD_CORNER_XY: 449026.21700 5351262.63700
NE_QUAD_CORNER_XY: 453660.17500 5351222.99900
SE_QUAD_CORNERY_XY: 453603.61000 5344276.08900
SW_QUAD_CORNER_XY: 448963.99400 5344315.73700
SECONDARY_NW_QUAD_XY: 449024.60200 5351043.70000
SECONDARY_NE_QUAD_XY: 453658.70700 5351004.06100
SECONDARY_SE_QUAD_XY: 453602.14200 5344057.16200
SECONDARY_SW_QUAD_XY: 448962.38000 5344096.81100
RMSE_XY: 2.94000
IMAGE_SOURCE: BLACK AND WHITE FILM
SOURCE_IMAGE_ID: NAPP 10725-083
SOURCE_IMAGE_DATE: 1997 9 2
SOURCE_DEM_DATE: 1998 0 0
AGENCY: WESTERN MAPPING CENTER (WMC)
PRODUCER: WOOLPERT LLP
PRODUCTION_SYSTEM: INTERGRAPH ISPM, ISIR
COMPRESSION: UNDEFINED
STANDARD_VERSION: 1996 12
METADATA_DATE: 2001 9 28
DATA_FILE_SIZE: 40657749
BYTE_COUNT: 5349
