FILENAME: O4810543.NWS.1165678.tif
QUADRANGLE_NAME: TULE VALLEY WEST
QUADRANT: NW
WEST_LONGITUDE: -105 45 0.00000
EAST_LONGITUDE: -105 41 15.00000
NORTH_LATITUDE: 48 22 30.00000
SOUTH_LATITUDE: 48 18 45.00000
PRODUCTION_DATE: 2001 9 15
RASTER_ORDER: LEFT_RIGHT/TOP_BOTTOM
BAND_ORGANIZATION: SINGLE FILE
BAND_CONTENT: BLACK&WHITE
BAND_CONTENT: UNDEFINED
BAND_CONTENT: UNDEFINED
BITS_PER_PIXEL: 8
SAMPLES_AND_LINES: 5349 7604
HORIZONTAL_DATUM: NAD83
HORIZONTAL_COORDINATE_SYSTEM: UTM
COORDINATE_ZONE: 13
HORIZONTAL_UNITS: meters
HORIZONTAL_RESOLUTION: 1.00000
SECONDARY_HORIZONTAL_DATUM: NAD27
XY_ORIGIN: 444045.00000 5358561.00000
SECONDARY_XY_ORIGIN: 444084.72000 5358339.18500
NATION: US
STATE: MT
NW_QUAD_CORNER_XY: 444460.21100 5358253.01500
NE_QUAD_CORNER_XY: 449088.50000 5358209.61300
SE_QUAD_CORNERY_XY: 449026.21700 5351262.63700
SW_QUAD_CORNER_XY: 444392.26500 5351306.05100
SECONDARY_NW_QUAD_XY: 444458.45000 5358034.06900
SECONDARY_NE_QUAD_XY: 449086.88500 5357990.66500
SECONDARY_SE_QUAD_XY: 449024.60200 5351043.70000
SECONDARY_SW_QUAD_XY: 444390.50400 5351087.11500
RMSE_XY: 3.12000
IMAGE_SOURCE: BLACK AND WHITE FILM
SOURCE_IMAGE_ID: NAPP 9105-160
SOURCE_IMAGE_DATE: 1996 8 1
SOURCE_DEM_DATE: 1998 0 0
AGENCY: WESTERN MAPPING CENTER (WMC)
PRODUCER: WOOLPERT LLP
PRODUCTION_SYSTEM: INTERGRAPH ISPM, ISIR
COMPRESSION: UNDEFINED
STANDARD_VERSION: 1996 12
METADATA_DATE: 2001 9 17
DATA_FILE_SIZE: 40679145
BYTE_COUNT: 5349
