FILENAME: O4810543.NES.1165677.tif
QUADRANGLE_NAME: TULE VALLEY WEST
QUADRANT: NE
WEST_LONGITUDE: -105 41 15.00000
EAST_LONGITUDE: -105 37 30.00000
NORTH_LATITUDE: 48 22 30.00000
SOUTH_LATITUDE: 48 18 45.00000
PRODUCTION_DATE: 2001 9 15
RASTER_ORDER: LEFT_RIGHT/TOP_BOTTOM
BAND_ORGANIZATION: SINGLE FILE
BAND_CONTENT: BLACK&WHITE
BAND_CONTENT: UNDEFINED
BAND_CONTENT: UNDEFINED
BITS_PER_PIXEL: 8
SAMPLES_AND_LINES: 5343 7601
HORIZONTAL_DATUM: NAD83
HORIZONTAL_COORDINATE_SYSTEM: UTM
COORDINATE_ZONE: 13
HORIZONTAL_UNITS: meters
HORIZONTAL_RESOLUTION: 1.00000
SECONDARY_HORIZONTAL_DATUM: NAD27
XY_ORIGIN: 448679.00000 5358518.00000
SECONDARY_XY_ORIGIN: 448718.69100 5358296.23600
NATION: US
STATE: MT
NW_QUAD_CORNER_XY: 449088.50000 5358209.61300
NE_QUAD_CORNER_XY: 453716.79600 5358169.98500
SE_QUAD_CORNERY_XY: 453660.17500 5351222.99900
SW_QUAD_CORNER_XY: 449026.21700 5351262.63700
SECONDARY_NW_QUAD_XY: 449086.88500 5357990.66500
SECONDARY_NE_QUAD_XY: 453715.32800 5357951.03600
SECONDARY_SE_QUAD_XY: 453658.70700 5351004.06100
SECONDARY_SW_QUAD_XY: 449024.60200 5351043.70000
RMSE_XY: 3.22000
IMAGE_SOURCE: BLACK AND WHITE FILM
SOURCE_IMAGE_ID: NAPP 10725-081
SOURCE_IMAGE_DATE: 1997 9 2
SOURCE_DEM_DATE: 1998 0 0
AGENCY: WESTERN MAPPING CENTER (WMC)
PRODUCER: WOOLPERT LLP
PRODUCTION_SYSTEM: INTERGRAPH ISPM, ISIR
COMPRESSION: UNDEFINED
STANDARD_VERSION: 1996 12
METADATA_DATE: 2001 9 17
DATA_FILE_SIZE: 40617486
BYTE_COUNT: 5343
