FILENAME: O4810544.NES.1165624.tif
QUADRANGLE_NAME: TULE VALLEY EAST
QUADRANT: NE
WEST_LONGITUDE: -105 33 45.00000
EAST_LONGITUDE: -105 30 0.00000
NORTH_LATITUDE: 48 22 30.00000
SOUTH_LATITUDE: 48 18 45.00000
PRODUCTION_DATE: 2001 9 15
RASTER_ORDER: LEFT_RIGHT/TOP_BOTTOM
BAND_ORGANIZATION: SINGLE FILE
BAND_CONTENT: BLACK&WHITE
BAND_CONTENT: UNDEFINED
BAND_CONTENT: UNDEFINED
BITS_PER_PIXEL: 8
SAMPLES_AND_LINES: 5331 7592
HORIZONTAL_DATUM: NAD83
HORIZONTAL_COORDINATE_SYSTEM: UTM
COORDINATE_ZONE: 13
HORIZONTAL_UNITS: meters
HORIZONTAL_RESOLUTION: 1.00000
SECONDARY_HORIZONTAL_DATUM: NAD27
XY_ORIGIN: 457948.00000 5358442.00000
SECONDARY_XY_ORIGIN: 457987.63600 5358220.33500
NATION: US
STATE: MT
NW_QUAD_CORNER_XY: 458345.09800 5358134.13100
NE_QUAD_CORNER_XY: 462973.40600 5358102.05100
SE_QUAD_CORNERY_XY: 462928.11000 5351155.04900
SW_QUAD_CORNER_XY: 458294.14000 5351187.13700
SECONDARY_NW_QUAD_XY: 458343.77700 5357915.18100
SECONDARY_NE_QUAD_XY: 462972.23200 5357883.10100
SECONDARY_SE_QUAD_XY: 462926.93600 5350936.10800
SECONDARY_SW_QUAD_XY: 458292.81900 5350968.19700
RMSE_XY: 3.32000
IMAGE_SOURCE: BLACK AND WHITE FILM
SOURCE_IMAGE_ID: NAPP 9094-067
SOURCE_IMAGE_DATE: 1996 7 9
SOURCE_DEM_DATE: 1998 0 0
AGENCY: WESTERN MAPPING CENTER (WMC)
PRODUCER: WOOLPERT LLP
PRODUCTION_SYSTEM: INTERGRAPH ISPM, ISIR
COMPRESSION: UNDEFINED
STANDARD_VERSION: 1996 12
METADATA_DATE: 2001 9 17
DATA_FILE_SIZE: 40478283
BYTE_COUNT: 5331
