FILENAME: O4810545.NES.1162626.tif
QUADRANGLE_NAME: SIMS SPRING
QUADRANT: NE
WEST_LONGITUDE: -105 26 15.00000
EAST_LONGITUDE: -105 22 30.00000
NORTH_LATITUDE: 48 22 30.00000
SOUTH_LATITUDE: 48 18 45.00000
PRODUCTION_DATE: 2001 9 23
RASTER_ORDER: LEFT_RIGHT/TOP_BOTTOM
BAND_ORGANIZATION: SINGLE FILE
BAND_CONTENT: BLACK&WHITE
BAND_CONTENT: UNDEFINED
BAND_CONTENT: UNDEFINED
BITS_PER_PIXEL: 8
SAMPLES_AND_LINES: 5320 7585
HORIZONTAL_DATUM: NAD83
HORIZONTAL_COORDINATE_SYSTEM: UTM
COORDINATE_ZONE: 13
HORIZONTAL_UNITS: meters
HORIZONTAL_RESOLUTION: 1.00000
SECONDARY_HORIZONTAL_DATUM: NAD27
XY_ORIGIN: 467216.00000 5358382.00000
SECONDARY_XY_ORIGIN: 467255.55600 5358160.43600
NATION: US
STATE: MT
NW_QUAD_CORNER_XY: 467601.71900 5358073.74600
NE_QUAD_CORNER_XY: 472230.03600 5358049.21500
SE_QUAD_CORNERY_XY: 472196.06500 5351102.19900
SW_QUAD_CORNER_XY: 467562.08500 5351126.73700
SECONDARY_NW_QUAD_XY: 467600.69200 5357854.79500
SECONDARY_NE_QUAD_XY: 472229.15600 5357830.26300
SECONDARY_SE_QUAD_XY: 472195.18400 5350883.25700
SECONDARY_SW_QUAD_XY: 467561.05800 5350907.79500
RMSE_XY: 2.80000
IMAGE_SOURCE: BLACK AND WHITE FILM
SOURCE_IMAGE_ID: NAPP 9093-106
SOURCE_IMAGE_DATE: 1996 7 9
SOURCE_DEM_DATE: 1998 0 0
AGENCY: WESTERN MAPPING CENTER (WMC)
PRODUCER: WOOLPERT LLP
PRODUCTION_SYSTEM: INTERGRAPH ISPM, ISIR
COMPRESSION: UNDEFINED
STANDARD_VERSION: 1996 12
METADATA_DATE: 2001 9 23
DATA_FILE_SIZE: 40357520
BYTE_COUNT: 5320
