FILENAME: O4810546.SWS.1162641.tif
QUADRANGLE_NAME: LONG CREEK WEST
QUADRANT: SW
WEST_LONGITUDE: -105 22 30.00000
EAST_LONGITUDE: -105 18 45.00000
NORTH_LATITUDE: 48 18 45.00000
SOUTH_LATITUDE: 48 15 0.00000
PRODUCTION_DATE: 2001 9 23
RASTER_ORDER: LEFT_RIGHT/TOP_BOTTOM
BAND_ORGANIZATION: SINGLE FILE
BAND_CONTENT: BLACK&WHITE
BAND_CONTENT: UNDEFINED
BAND_CONTENT: UNDEFINED
BITS_PER_PIXEL: 8
SAMPLES_AND_LINES: 5320 7581
HORIZONTAL_DATUM: NAD83
HORIZONTAL_COORDINATE_SYSTEM: UTM
COORDINATE_ZONE: 13
HORIZONTAL_UNITS: meters
HORIZONTAL_RESOLUTION: 1.00000
SECONDARY_HORIZONTAL_DATUM: NAD27
XY_ORIGIN: 471816.00000 5351410.00000
SECONDARY_XY_ORIGIN: 471855.54600 5351188.57500
NATION: US
STATE: MT
NW_QUAD_CORNER_XY: 472196.06500 5351102.19900
NE_QUAD_CORNER_XY: 476830.04800 5351081.43700
SE_QUAD_CORNERY_XY: 476801.76600 5344134.49200
SW_QUAD_CORNER_XY: 472162.12600 5344155.25900
SECONDARY_NW_QUAD_XY: 472195.18400 5350883.25700
SECONDARY_NE_QUAD_XY: 476829.31400 5350862.49400
SECONDARY_SE_QUAD_XY: 476801.03200 5343915.56000
SECONDARY_SW_QUAD_XY: 472161.24600 5343936.32800
RMSE_XY: 2.46000
IMAGE_SOURCE: BLACK AND WHITE FILM
SOURCE_IMAGE_ID: NAPP 9116-111
SOURCE_IMAGE_DATE: 1996 8 27
SOURCE_DEM_DATE: 1998 0 0
AGENCY: WESTERN MAPPING CENTER (WMC)
PRODUCER: WOOLPERT LLP
PRODUCTION_SYSTEM: INTERGRAPH ISPM, ISIR
COMPRESSION: UNDEFINED
STANDARD_VERSION: 1996 12
METADATA_DATE: 2001 9 23
DATA_FILE_SIZE: 40336240
BYTE_COUNT: 5320
