FILENAME: O4810546.NWS.1162639.tif
QUADRANGLE_NAME: LONG CREEK WEST
QUADRANT: NW
WEST_LONGITUDE: -105 22 30.00000
EAST_LONGITUDE: -105 18 45.00000
NORTH_LATITUDE: 48 22 30.00000
SOUTH_LATITUDE: 48 18 45.00000
PRODUCTION_DATE: 2001 9 23
RASTER_ORDER: LEFT_RIGHT/TOP_BOTTOM
BAND_ORGANIZATION: SINGLE FILE
BAND_CONTENT: BLACK&WHITE
BAND_CONTENT: UNDEFINED
BAND_CONTENT: UNDEFINED
BITS_PER_PIXEL: 8
SAMPLES_AND_LINES: 5314 7581
HORIZONTAL_DATUM: NAD83
HORIZONTAL_COORDINATE_SYSTEM: UTM
COORDINATE_ZONE: 13
HORIZONTAL_UNITS: meters
HORIZONTAL_RESOLUTION: 1.00000
SECONDARY_HORIZONTAL_DATUM: NAD27
XY_ORIGIN: 471850.00000 5358357.00000
SECONDARY_XY_ORIGIN: 471889.50200 5358135.48900
NATION: US
STATE: MT
NW_QUAD_CORNER_XY: 472230.03600 5358049.21500
NE_QUAD_CORNER_XY: 476858.35800 5358028.45800
SE_QUAD_CORNERY_XY: 476830.04800 5351081.43700
SW_QUAD_CORNER_XY: 472196.06500 5351102.19900
SECONDARY_NW_QUAD_XY: 472229.15600 5357830.26300
SECONDARY_NE_QUAD_XY: 476857.62400 5357809.50500
SECONDARY_SE_QUAD_XY: 476829.31400 5350862.49400
SECONDARY_SW_QUAD_XY: 472195.18400 5350883.25700
RMSE_XY: 4.43000
IMAGE_SOURCE: BLACK AND WHITE FILM
SOURCE_IMAGE_ID: NAPP 9116-113
SOURCE_IMAGE_DATE: 1996 8 27
SOURCE_DEM_DATE: 1998 0 0
AGENCY: WESTERN MAPPING CENTER (WMC)
PRODUCER: WOOLPERT LLP
PRODUCTION_SYSTEM: INTERGRAPH ISPM, ISIR
COMPRESSION: UNDEFINED
STANDARD_VERSION: 1996 12
METADATA_DATE: 2001 9 23
DATA_FILE_SIZE: 40290748
BYTE_COUNT: 5314
