FILENAME: O4810547.SWS.1162653.tif
QUADRANGLE_NAME: LONG CREEK EAST
QUADRANT: SW
WEST_LONGITUDE: -105 15 0.00000
EAST_LONGITUDE: -105 11 15.00000
NORTH_LATITUDE: 48 18 45.00000
SOUTH_LATITUDE: 48 15 0.00000
PRODUCTION_DATE: 2001 9 23
RASTER_ORDER: LEFT_RIGHT/TOP_BOTTOM
BAND_ORGANIZATION: SINGLE FILE
BAND_CONTENT: BLACK&WHITE
BAND_CONTENT: UNDEFINED
BAND_CONTENT: UNDEFINED
BITS_PER_PIXEL: 8
SAMPLES_AND_LINES: 5308 7573
HORIZONTAL_DATUM: NAD83
HORIZONTAL_COORDINATE_SYSTEM: UTM
COORDINATE_ZONE: 13
HORIZONTAL_UNITS: meters
HORIZONTAL_RESOLUTION: 1.00000
SECONDARY_HORIZONTAL_DATUM: NAD27
XY_ORIGIN: 481096.00000 5351372.00000
SECONDARY_XY_ORIGIN: 481135.42400 5351150.67700
NATION: US
STATE: MT
NW_QUAD_CORNER_XY: 481464.03500 5351064.45000
NE_QUAD_CORNER_XY: 486098.02400 5351051.23800
SE_QUAD_CORNERY_XY: 486081.05500 5344104.28500
SW_QUAD_CORNER_XY: 481441.40900 5344117.50000
SECONDARY_NW_QUAD_XY: 481463.44800 5350845.50600
SECONDARY_NE_QUAD_XY: 486097.58400 5350832.29400
SECONDARY_SE_QUAD_XY: 486080.61500 5343885.35200
SECONDARY_SW_QUAD_XY: 481440.82200 5343898.56800
RMSE_XY: 5.27000
IMAGE_SOURCE: BLACK AND WHITE FILM
SOURCE_IMAGE_ID: NAPP 10725-038
SOURCE_IMAGE_DATE: 1997 9 2
SOURCE_DEM_DATE: 1998 0 0
AGENCY: WESTERN MAPPING CENTER (WMC)
PRODUCER: WOOLPERT LLP
PRODUCTION_SYSTEM: INTERGRAPH ISPM, ISIR
COMPRESSION: UNDEFINED
STANDARD_VERSION: 1996 12
METADATA_DATE: 2001 9 23
DATA_FILE_SIZE: 40202792
BYTE_COUNT: 5308
