FILENAME: O4810547.NWS.1162651.tif
QUADRANGLE_NAME: LONG CREEK EAST
QUADRANT: NW
WEST_LONGITUDE: -105 15 0.00000
EAST_LONGITUDE: -105 11 15.00000
NORTH_LATITUDE: 48 22 30.00000
SOUTH_LATITUDE: 48 18 45.00000
PRODUCTION_DATE: 2001 9 23
RASTER_ORDER: LEFT_RIGHT/TOP_BOTTOM
BAND_ORGANIZATION: SINGLE FILE
BAND_CONTENT: BLACK&WHITE
BAND_CONTENT: UNDEFINED
BAND_CONTENT: UNDEFINED
BITS_PER_PIXEL: 8
SAMPLES_AND_LINES: 5302 7573
HORIZONTAL_DATUM: NAD83
HORIZONTAL_COORDINATE_SYSTEM: UTM
COORDINATE_ZONE: 13
HORIZONTAL_UNITS: meters
HORIZONTAL_RESOLUTION: 1.00000
SECONDARY_HORIZONTAL_DATUM: NAD27
XY_ORIGIN: 481119.00000 5358319.00000
SECONDARY_XY_ORIGIN: 481158.39400 5358097.58700
NATION: US
STATE: MT
NW_QUAD_CORNER_XY: 481486.68200 5358011.47500
NE_QUAD_CORNER_XY: 486115.01000 5357998.26600
SE_QUAD_CORNERY_XY: 486098.02400 5351051.23800
SW_QUAD_CORNER_XY: 481464.03500 5351064.45000
SECONDARY_NW_QUAD_XY: 481486.09500 5357792.52100
SECONDARY_NE_QUAD_XY: 486114.56900 5357779.31200
SECONDARY_SE_QUAD_XY: 486097.58400 5350832.29400
SECONDARY_SW_QUAD_XY: 481463.44800 5350845.50600
RMSE_XY: 3.62000
IMAGE_SOURCE: BLACK AND WHITE FILM
SOURCE_IMAGE_ID: NAPP 10725-040
SOURCE_IMAGE_DATE: 1997 9 2
SOURCE_DEM_DATE: 1998 0 0
AGENCY: WESTERN MAPPING CENTER (WMC)
PRODUCER: WOOLPERT LLP
PRODUCTION_SYSTEM: INTERGRAPH ISPM, ISIR
COMPRESSION: UNDEFINED
STANDARD_VERSION: 1996 12
METADATA_DATE: 2001 9 23
DATA_FILE_SIZE: 40157348
BYTE_COUNT: 5302
