FILENAME: O4810549.SES.1139237.tif
QUADRANGLE_NAME: OSWEGO NW
QUADRANT: SE
WEST_LONGITUDE: -105 56 15.00000
EAST_LONGITUDE: -105 52 30.00000
NORTH_LATITUDE: 48 11 15.00000
SOUTH_LATITUDE: 48 7 30.00000
PRODUCTION_DATE: 2001 4 4
RASTER_ORDER: LEFT_RIGHT/TOP_BOTTOM
BAND_ORGANIZATION: SINGLE FILE
BAND_CONTENT: BLACK&WHITE
BAND_CONTENT: UNDEFINED
BAND_CONTENT: UNDEFINED
BITS_PER_PIXEL: 8
SAMPLES_AND_LINES: 5384 7616
HORIZONTAL_DATUM: NAD83
HORIZONTAL_COORDINATE_SYSTEM: UTM
COORDINATE_ZONE: 13
HORIZONTAL_UNITS: meters
HORIZONTAL_RESOLUTION: 1.00000
SECONDARY_HORIZONTAL_DATUM: NAD27
XY_ORIGIN: 429888.00000 5337874.00000
SECONDARY_XY_ORIGIN: 429928.05400 5337652.34800
NATION: US
STATE: MT
NW_QUAD_CORNER_XY: 430320.84000 5337565.31400
NE_QUAD_CORNER_XY: 434966.07600 5337510.54700
SE_QUAD_CORNERY_XY: 434887.03800 5330563.83000
SW_QUAD_CORNER_XY: 430236.15500 5330618.61000
SECONDARY_NW_QUAD_XY: 430318.63800 5337346.40600
SECONDARY_NE_QUAD_XY: 434964.02100 5337291.63800
SECONDARY_SE_QUAD_XY: 434884.98400 5330344.93300
SECONDARY_SW_QUAD_XY: 430233.95400 5330399.71500
RMSE_XY: 2.03000
IMAGE_SOURCE: BLACK AND WHITE FILM
SOURCE_IMAGE_ID: NAPP 9088-111
SOURCE_IMAGE_DATE: 1996 7 7
SOURCE_DEM_DATE: 1998 0 0
AGENCY: WESTERN MAPPING CENTER (WMC)
PRODUCER: WOOLPERT LLP
PRODUCTION_SYSTEM: INTERGRAPH ISPM, ISIR
COMPRESSION: UNDEFINED
STANDARD_VERSION: 1996 12
METADATA_DATE: 2001 4 4
DATA_FILE_SIZE: 41009928
BYTE_COUNT: 5384
