FILENAME: O4810549.NWS.1139236.tif
QUADRANGLE_NAME: OSWEGO NW
QUADRANT: NW
WEST_LONGITUDE: -106 0 0.00000
EAST_LONGITUDE: -105 56 15.00000
NORTH_LATITUDE: 48 15 0.00000
SOUTH_LATITUDE: 48 11 15.00000
PRODUCTION_DATE: 2001 4 4
RASTER_ORDER: LEFT_RIGHT/TOP_BOTTOM
BAND_ORGANIZATION: SINGLE FILE
BAND_CONTENT: BLACK&WHITE
BAND_CONTENT: UNDEFINED
BAND_CONTENT: UNDEFINED
BITS_PER_PIXEL: 8
SAMPLES_AND_LINES: 5383 7619
HORIZONTAL_DATUM: NAD83
HORIZONTAL_COORDINATE_SYSTEM: UTM
COORDINATE_ZONE: 13
HORIZONTAL_UNITS: meters
HORIZONTAL_RESOLUTION: 1.00000
SECONDARY_HORIZONTAL_DATUM: NAD27
XY_ORIGIN: 425328.00000 5344879.00000
SECONDARY_XY_ORIGIN: 425368.03100 5344657.16200
NATION: US
STATE: MT
NW_QUAD_CORNER_XY: 425766.03300 5344570.62300
NE_QUAD_CORNER_XY: 430405.60800 5344512.09200
SE_QUAD_CORNERY_XY: 430320.84000 5337565.31400
SW_QUAD_CORNER_XY: 425675.61200 5337623.85900
SECONDARY_NW_QUAD_XY: 425763.68400 5344351.70500
SECONDARY_NE_QUAD_XY: 430403.40600 5344293.17300
SECONDARY_SE_QUAD_XY: 430318.63800 5337346.40600
SECONDARY_SW_QUAD_XY: 425673.26400 5337404.95300
RMSE_XY: 1.91000
IMAGE_SOURCE: BLACK AND WHITE FILM
SOURCE_IMAGE_ID: NAPP 9088-149
SOURCE_IMAGE_DATE: 1996 7 7
SOURCE_DEM_DATE: 1998 0 0
AGENCY: WESTERN MAPPING CENTER (WMC)
PRODUCER: WOOLPERT LLP
PRODUCTION_SYSTEM: INTERGRAPH ISPM, ISIR
COMPRESSION: UNDEFINED
STANDARD_VERSION: 1996 12
METADATA_DATE: 2001 4 4
DATA_FILE_SIZE: 41018460
BYTE_COUNT: 5383
