FILENAME: O4810549.NES.1139235.tif
QUADRANGLE_NAME: OSWEGO NW
QUADRANT: NE
WEST_LONGITUDE: -105 56 15.00000
EAST_LONGITUDE: -105 52 30.00000
NORTH_LATITUDE: 48 15 0.00000
SOUTH_LATITUDE: 48 11 15.00000
PRODUCTION_DATE: 2001 4 4
RASTER_ORDER: LEFT_RIGHT/TOP_BOTTOM
BAND_ORGANIZATION: SINGLE FILE
BAND_CONTENT: BLACK&WHITE
BAND_CONTENT: UNDEFINED
BAND_CONTENT: UNDEFINED
BITS_PER_PIXEL: 8
SAMPLES_AND_LINES: 5378 7615
HORIZONTAL_DATUM: NAD83
HORIZONTAL_COORDINATE_SYSTEM: UTM
COORDINATE_ZONE: 13
HORIZONTAL_UNITS: meters
HORIZONTAL_RESOLUTION: 1.00000
SECONDARY_HORIZONTAL_DATUM: NAD27
XY_ORIGIN: 429973.00000 5344820.00000
SECONDARY_XY_ORIGIN: 430012.98100 5344598.21700
NATION: US
STATE: MT
NW_QUAD_CORNER_XY: 430405.60800 5344512.09200
NE_QUAD_CORNER_XY: 435045.19200 5344457.33900
SE_QUAD_CORNERY_XY: 434966.07600 5337510.54700
SW_QUAD_CORNER_XY: 430320.84000 5337565.31400
SECONDARY_NW_QUAD_XY: 430403.40600 5344293.17300
SECONDARY_NE_QUAD_XY: 435043.13700 5344238.41700
SECONDARY_SE_QUAD_XY: 434964.02100 5337291.63800
SECONDARY_SW_QUAD_XY: 430318.63800 5337346.40600
RMSE_XY: 1.54000
IMAGE_SOURCE: BLACK AND WHITE FILM
SOURCE_IMAGE_ID: NAPP 9088-113
SOURCE_IMAGE_DATE: 1996 7 7
SOURCE_DEM_DATE: 1998 0 0
AGENCY: WESTERN MAPPING CENTER (WMC)
PRODUCER: WOOLPERT LLP
PRODUCTION_SYSTEM: INTERGRAPH ISPM, ISIR
COMPRESSION: UNDEFINED
STANDARD_VERSION: 1996 12
METADATA_DATE: 2001 4 4
DATA_FILE_SIZE: 40958848
BYTE_COUNT: 5378
