FILENAME: O4810550.SWS.1139250.tif
QUADRANGLE_NAME: FLYNN CREEK NORTH
QUADRANT: SW
WEST_LONGITUDE: -105 52 30.00000
EAST_LONGITUDE: -105 48 45.00000
NORTH_LATITUDE: 48 11 15.00000
SOUTH_LATITUDE: 48 7 30.00000
PRODUCTION_DATE: 2001 4 4
RASTER_ORDER: LEFT_RIGHT/TOP_BOTTOM
BAND_ORGANIZATION: SINGLE FILE
BAND_CONTENT: BLACK&WHITE
BAND_CONTENT: UNDEFINED
BAND_CONTENT: UNDEFINED
BITS_PER_PIXEL: 8
SAMPLES_AND_LINES: 5378 7612
HORIZONTAL_DATUM: NAD83
HORIZONTAL_COORDINATE_SYSTEM: UTM
COORDINATE_ZONE: 13
HORIZONTAL_UNITS: meters
HORIZONTAL_RESOLUTION: 1.00000
SECONDARY_HORIZONTAL_DATUM: NAD27
XY_ORIGIN: 434539.00000 5337819.00000
SECONDARY_XY_ORIGIN: 434579.00200 5337597.39700
NATION: US
STATE: MT
NW_QUAD_CORNER_XY: 434966.07600 5337510.54700
NE_QUAD_CORNER_XY: 439611.32100 5337459.55800
SE_QUAD_CORNERY_XY: 439537.92900 5330512.82900
SW_QUAD_CORNER_XY: 434887.03800 5330563.83000
SECONDARY_NW_QUAD_XY: 434964.02100 5337291.63800
SECONDARY_NE_QUAD_XY: 439609.41300 5337240.64700
SECONDARY_SE_QUAD_XY: 439536.02100 5330293.93000
SECONDARY_SW_QUAD_XY: 434884.98400 5330344.93300
RMSE_XY: 1.98000
IMAGE_SOURCE: BLACK AND WHITE FILM
SOURCE_IMAGE_ID: NAPP 11001-016
SOURCE_IMAGE_DATE: 1998 7 15
SOURCE_DEM_DATE: 1998 0 0
AGENCY: WESTERN MAPPING CENTER (WMC)
PRODUCER: WOOLPERT LLP
PRODUCTION_SYSTEM: INTERGRAPH ISPM, ISIR
COMPRESSION: UNDEFINED
STANDARD_VERSION: 1996 12
METADATA_DATE: 2001 4 4
DATA_FILE_SIZE: 40942714
BYTE_COUNT: 5378
