FILENAME: O4810550.NES.1139247.tif
QUADRANGLE_NAME: FLYNN CREEK NORTH
QUADRANT: NE
WEST_LONGITUDE: -105 48 45.00000
EAST_LONGITUDE: -105 45 0.00000
NORTH_LATITUDE: 48 15 0.00000
SOUTH_LATITUDE: 48 11 15.00000
PRODUCTION_DATE: 2001 4 4
RASTER_ORDER: LEFT_RIGHT/TOP_BOTTOM
BAND_ORGANIZATION: SINGLE FILE
BAND_CONTENT: BLACK&WHITE
BAND_CONTENT: UNDEFINED
BAND_CONTENT: UNDEFINED
BITS_PER_PIXEL: 8
SAMPLES_AND_LINES: 5366 7608
HORIZONTAL_DATUM: NAD83
HORIZONTAL_COORDINATE_SYSTEM: UTM
COORDINATE_ZONE: 13
HORIZONTAL_UNITS: meters
HORIZONTAL_RESOLUTION: 1.00000
SECONDARY_HORIZONTAL_DATUM: NAD27
XY_ORIGIN: 439264.00000 5344715.00000
SECONDARY_XY_ORIGIN: 439303.87400 5344493.32300
NATION: US
STATE: MT
NW_QUAD_CORNER_XY: 439684.78500 5344406.36200
NE_QUAD_CORNER_XY: 444324.38600 5344359.16100
SE_QUAD_CORNERY_XY: 444256.57300 5337412.34600
SW_QUAD_CORNER_XY: 439611.32100 5337459.55800
SECONDARY_NW_QUAD_XY: 439682.87700 5344187.43800
SECONDARY_NE_QUAD_XY: 444322.62500 5344140.23600
SECONDARY_SE_QUAD_XY: 444254.81200 5337193.43300
SECONDARY_SW_QUAD_XY: 439609.41300 5337240.64700
RMSE_XY: 2.53000
IMAGE_SOURCE: BLACK AND WHITE FILM
SOURCE_IMAGE_ID: NAPP 11000-064
SOURCE_IMAGE_DATE: 1998 7 13
SOURCE_DEM_DATE: 1998 0 0
AGENCY: WESTERN MAPPING CENTER (WMC)
PRODUCER: WOOLPERT LLP
PRODUCTION_SYSTEM: INTERGRAPH ISPM, ISIR
COMPRESSION: UNDEFINED
STANDARD_VERSION: 1996 12
METADATA_DATE: 2001 4 4
DATA_FILE_SIZE: 40829894
BYTE_COUNT: 5366
