FILENAME: O4810552.NWS.1139272.tif
QUADRANGLE_NAME: WOLF POINT NE
QUADRANT: NW
WEST_LONGITUDE: -105 37 30.00000
EAST_LONGITUDE: -105 33 45.00000
NORTH_LATITUDE: 48 15 0.00000
SOUTH_LATITUDE: 48 11 15.00000
PRODUCTION_DATE: 2001 4 6
RASTER_ORDER: LEFT_RIGHT/TOP_BOTTOM
BAND_ORGANIZATION: SINGLE FILE
BAND_CONTENT: BLACK&WHITE
BAND_CONTENT: UNDEFINED
BAND_CONTENT: UNDEFINED
BITS_PER_PIXEL: 8
SAMPLES_AND_LINES: 5349 7596
HORIZONTAL_DATUM: NAD83
HORIZONTAL_COORDINATE_SYSTEM: UTM
COORDINATE_ZONE: 13
HORIZONTAL_UNITS: meters
HORIZONTAL_RESOLUTION: 1.00000
SECONDARY_HORIZONTAL_DATUM: NAD27
XY_ORIGIN: 453200.00000 5344584.00000
SECONDARY_XY_ORIGIN: 453239.77000 5344362.47000
NATION: US
STATE: MT
NW_QUAD_CORNER_XY: 453603.61000 5344276.08900
NE_QUAD_CORNER_XY: 458243.23100 5344240.21700
SE_QUAD_CORNERY_XY: 458192.37300 5337293.37300
SW_QUAD_CORNER_XY: 453547.10000 5337329.25400
SECONDARY_NW_QUAD_XY: 453602.14200 5344057.16200
SECONDARY_NE_QUAD_XY: 458241.91000 5344021.28900
SECONDARY_SE_QUAD_XY: 458191.05200 5337074.45700
SECONDARY_SW_QUAD_XY: 453545.63300 5337110.33800
RMSE_XY: 1.44000
IMAGE_SOURCE: BLACK AND WHITE FILM
SOURCE_IMAGE_ID: NAPP 9094-116
SOURCE_IMAGE_DATE: 1996 7 9
SOURCE_DEM_DATE: 1998 0 0
AGENCY: WESTERN MAPPING CENTER (WMC)
PRODUCER: WOOLPERT LLP
PRODUCTION_SYSTEM: INTERGRAPH ISPM, ISIR
COMPRESSION: UNDEFINED
STANDARD_VERSION: 1996 12
METADATA_DATE: 2001 4 6
DATA_FILE_SIZE: 40636353
BYTE_COUNT: 5349
