FILENAME: O4810552.NES.1139271.tif
QUADRANGLE_NAME: WOLF POINT NE
QUADRANT: NE
WEST_LONGITUDE: -105 33 45.00000
EAST_LONGITUDE: -105 30 0.00000
NORTH_LATITUDE: 48 15 0.00000
SOUTH_LATITUDE: 48 11 15.00000
PRODUCTION_DATE: 2001 4 6
RASTER_ORDER: LEFT_RIGHT/TOP_BOTTOM
BAND_ORGANIZATION: SINGLE FILE
BAND_CONTENT: BLACK&WHITE
BAND_CONTENT: UNDEFINED
BAND_CONTENT: UNDEFINED
BITS_PER_PIXEL: 8
SAMPLES_AND_LINES: 5342 7592
HORIZONTAL_DATUM: NAD83
HORIZONTAL_COORDINATE_SYSTEM: UTM
COORDINATE_ZONE: 13
HORIZONTAL_UNITS: meters
HORIZONTAL_RESOLUTION: 1.00000
SECONDARY_HORIZONTAL_DATUM: NAD27
XY_ORIGIN: 457846.00000 5344548.00000
SECONDARY_XY_ORIGIN: 457885.74600 5344326.51400
NATION: US
STATE: MT
NW_QUAD_CORNER_XY: 458243.23100 5344240.21700
NE_QUAD_CORNER_XY: 462882.85800 5344208.12200
SE_QUAD_CORNERY_XY: 462837.65100 5337261.27000
SW_QUAD_CORNER_XY: 458192.37300 5337293.37300
SECONDARY_NW_QUAD_XY: 458241.91000 5344021.28900
SECONDARY_NE_QUAD_XY: 462881.68400 5343989.19200
SECONDARY_SE_QUAD_XY: 462836.47700 5337042.35200
SECONDARY_SW_QUAD_XY: 458191.05200 5337074.45700
RMSE_XY: 1.53000
IMAGE_SOURCE: BLACK AND WHITE FILM
SOURCE_IMAGE_ID: NAPP 9094-063
SOURCE_IMAGE_DATE: 1996 7 9
SOURCE_DEM_DATE: 1998 0 0
AGENCY: WESTERN MAPPING CENTER (WMC)
PRODUCER: WOOLPERT LLP
PRODUCTION_SYSTEM: INTERGRAPH ISPM, ISIR
COMPRESSION: UNDEFINED
STANDARD_VERSION: 1996 12
METADATA_DATE: 2001 4 6
DATA_FILE_SIZE: 40561806
BYTE_COUNT: 5342
