FILENAME: O4810553.NES.1139283.tif
QUADRANGLE_NAME: CHELSEA NW
QUADRANT: NE
WEST_LONGITUDE: -105 26 15.00000
EAST_LONGITUDE: -105 22 30.00000
NORTH_LATITUDE: 48 15 0.00000
SOUTH_LATITUDE: 48 11 15.00000
PRODUCTION_DATE: 2001 4 6
RASTER_ORDER: LEFT_RIGHT/TOP_BOTTOM
BAND_ORGANIZATION: SINGLE FILE
BAND_CONTENT: BLACK&WHITE
BAND_CONTENT: UNDEFINED
BAND_CONTENT: UNDEFINED
BITS_PER_PIXEL: 8
SAMPLES_AND_LINES: 5331 7585
HORIZONTAL_DATUM: NAD83
HORIZONTAL_COORDINATE_SYSTEM: UTM
COORDINATE_ZONE: 13
HORIZONTAL_UNITS: meters
HORIZONTAL_RESOLUTION: 1.00000
SECONDARY_HORIZONTAL_DATUM: NAD27
XY_ORIGIN: 467137.00000 5344488.00000
SECONDARY_XY_ORIGIN: 467176.65700 5344266.60600
NATION: US
STATE: MT
NW_QUAD_CORNER_XY: 467522.49000 5344179.80200
NE_QUAD_CORNER_XY: 472162.12600 5344155.25900
SE_QUAD_CORNERY_XY: 472128.22100 5337208.39400
SW_QUAD_CORNER_XY: 467482.93400 5337232.94400
SECONDARY_NW_QUAD_XY: 467521.46300 5343960.87200
SECONDARY_NE_QUAD_XY: 472161.24600 5343936.32800
SECONDARY_SE_QUAD_XY: 472127.34100 5336989.47500
SECONDARY_SW_QUAD_XY: 467481.90700 5337014.02500
RMSE_XY: 1.33000
IMAGE_SOURCE: BLACK AND WHITE FILM
SOURCE_IMAGE_ID: NAPP 9093-102
SOURCE_IMAGE_DATE: 1996 7 9
SOURCE_DEM_DATE: 1998 0 0
AGENCY: WESTERN MAPPING CENTER (WMC)
PRODUCER: WOOLPERT LLP
PRODUCTION_SYSTEM: INTERGRAPH ISPM, ISIR
COMPRESSION: UNDEFINED
STANDARD_VERSION: 1996 12
METADATA_DATE: 2001 4 6
DATA_FILE_SIZE: 40440966
BYTE_COUNT: 5331
