FILENAME: O4810554.SWS.1139298.tif
QUADRANGLE_NAME: CHELSEA
QUADRANT: SW
WEST_LONGITUDE: -105 22 30.00000
EAST_LONGITUDE: -105 18 45.00000
NORTH_LATITUDE: 48 11 15.00000
SOUTH_LATITUDE: 48 7 30.00000
PRODUCTION_DATE: 2001 4 4
RASTER_ORDER: LEFT_RIGHT/TOP_BOTTOM
BAND_ORGANIZATION: SINGLE FILE
BAND_CONTENT: BLACK&WHITE
BAND_CONTENT: UNDEFINED
BAND_CONTENT: UNDEFINED
BITS_PER_PIXEL: 8
SAMPLES_AND_LINES: 5331 7581
HORIZONTAL_DATUM: NAD83
HORIZONTAL_COORDINATE_SYSTEM: UTM
COORDINATE_ZONE: 13
HORIZONTAL_UNITS: meters
HORIZONTAL_RESOLUTION: 1.00000
SECONDARY_HORIZONTAL_DATUM: NAD27
XY_ORIGIN: 471748.00000 5337516.00000
SECONDARY_XY_ORIGIN: 471787.62900 5337294.76100
NATION: US
STATE: MT
NW_QUAD_CORNER_XY: 472128.22100 5337208.39400
NE_QUAD_CORNER_XY: 476773.51200 5337187.62200
SE_QUAD_CORNERY_XY: 476745.28600 5330240.82800
SW_QUAD_CORNER_XY: 472094.35000 5330261.60500
SECONDARY_NW_QUAD_XY: 472127.34100 5336989.47500
SECONDARY_NE_QUAD_XY: 476772.77800 5336968.70200
SECONDARY_SE_QUAD_XY: 476744.55200 5330021.92100
SECONDARY_SW_QUAD_XY: 472093.46900 5330042.69900
RMSE_XY: 1.19000
IMAGE_SOURCE: BLACK AND WHITE FILM
SOURCE_IMAGE_ID: NAPP 9116-107
SOURCE_IMAGE_DATE: 1996 8 27
SOURCE_DEM_DATE: 1998 0 0
AGENCY: WESTERN MAPPING CENTER (WMC)
PRODUCER: WOOLPERT LLP
PRODUCTION_SYSTEM: INTERGRAPH ISPM, ISIR
COMPRESSION: UNDEFINED
STANDARD_VERSION: 1996 12
METADATA_DATE: 2001 4 4
DATA_FILE_SIZE: 40419642
BYTE_COUNT: 5331
