FILENAME: O4810554.NWS.1139296.tif
QUADRANGLE_NAME: CHELSEA
QUADRANT: NW
WEST_LONGITUDE: -105 22 30.00000
EAST_LONGITUDE: -105 18 45.00000
NORTH_LATITUDE: 48 15 0.00000
SOUTH_LATITUDE: 48 11 15.00000
PRODUCTION_DATE: 2001 4 4
RASTER_ORDER: LEFT_RIGHT/TOP_BOTTOM
BAND_ORGANIZATION: SINGLE FILE
BAND_CONTENT: BLACK&WHITE
BAND_CONTENT: UNDEFINED
BAND_CONTENT: UNDEFINED
BITS_PER_PIXEL: 8
SAMPLES_AND_LINES: 5325 7581
HORIZONTAL_DATUM: NAD83
HORIZONTAL_COORDINATE_SYSTEM: UTM
COORDINATE_ZONE: 13
HORIZONTAL_UNITS: meters
HORIZONTAL_RESOLUTION: 1.00000
SECONDARY_HORIZONTAL_DATUM: NAD27
XY_ORIGIN: 471782.00000 5344463.00000
SECONDARY_XY_ORIGIN: 471821.58900 5344241.66200
NATION: US
STATE: MT
NW_QUAD_CORNER_XY: 472162.12600 5344155.25900
NE_QUAD_CORNER_XY: 476801.76600 5344134.49200
SE_QUAD_CORNERY_XY: 476773.51200 5337187.62200
SW_QUAD_CORNER_XY: 472128.22100 5337208.39400
SECONDARY_NW_QUAD_XY: 472161.24600 5343936.32800
SECONDARY_NE_QUAD_XY: 476801.03200 5343915.56000
SECONDARY_SE_QUAD_XY: 476772.77800 5336968.70200
SECONDARY_SW_QUAD_XY: 472127.34100 5336989.47500
RMSE_XY: 1.58000
IMAGE_SOURCE: BLACK AND WHITE FILM
SOURCE_IMAGE_ID: NAPP 9116-109
SOURCE_IMAGE_DATE: 1996 8 27
SOURCE_DEM_DATE: 1998 0 0
AGENCY: WESTERN MAPPING CENTER (WMC)
PRODUCER: WOOLPERT LLP
PRODUCTION_SYSTEM: INTERGRAPH ISPM, ISIR
COMPRESSION: UNDEFINED
STANDARD_VERSION: 1996 12
METADATA_DATE: 2001 4 4
DATA_FILE_SIZE: 40374150
BYTE_COUNT: 5325
