FILENAME: O4810555.SES.1139309.tif
QUADRANGLE_NAME: BADGER CREEK
QUADRANT: SE
WEST_LONGITUDE: -105 11 15.00000
EAST_LONGITUDE: -105 7 30.00000
NORTH_LATITUDE: 48 11 15.00000
SOUTH_LATITUDE: 48 7 30.00000
PRODUCTION_DATE: 2001 3 16
RASTER_ORDER: LEFT_RIGHT/TOP_BOTTOM
BAND_ORGANIZATION: SINGLE FILE
BAND_CONTENT: BLACK&WHITE
BAND_CONTENT: UNDEFINED
BAND_CONTENT: UNDEFINED
BITS_PER_PIXEL: 8
SAMPLES_AND_LINES: 5313 7569
HORIZONTAL_DATUM: NAD83
HORIZONTAL_COORDINATE_SYSTEM: UTM
COORDINATE_ZONE: 13
HORIZONTAL_UNITS: meters
HORIZONTAL_RESOLUTION: 1.00000
SECONDARY_HORIZONTAL_DATUM: NAD27
XY_ORIGIN: 485702.00000 5337465.00000
SECONDARY_XY_ORIGIN: 485741.46000 5337243.85100
NATION: US
STATE: MT
NW_QUAD_CORNER_XY: 486064.10200 5337157.40800
NE_QUAD_CORNER_XY: 490709.40100 5337147.96600
SE_QUAD_CORNERY_XY: 490698.11000 5330201.16200
SW_QUAD_CORNER_XY: 486047.16700 5330210.60700
SECONDARY_NW_QUAD_XY: 486063.66200 5336938.48700
SECONDARY_NE_QUAD_XY: 490709.10700 5336929.04500
SECONDARY_SE_QUAD_XY: 490697.81700 5329982.25400
SECONDARY_SW_QUAD_XY: 486046.72700 5329991.69800
RMSE_XY: 1.73000
IMAGE_SOURCE: BLACK AND WHITE FILM
SOURCE_IMAGE_ID: NAPP 9103-205
SOURCE_IMAGE_DATE: 1996 7 15
SOURCE_IMAGE_ID: NAPP 9103-204
SOURCE_IMAGE_DATE: 1996 7 15
SOURCE_DEM_DATE: 1998 0 0
AGENCY: WESTERN MAPPING CENTER (WMC)
PRODUCER: WOOLPERT LLP
PRODUCTION_SYSTEM: INTERGRAPH ISPM, ISIR
COMPRESSION: UNDEFINED
STANDARD_VERSION: 1996 12
METADATA_DATE: 2001 4 27
DATA_FILE_SIZE: 40219410
BYTE_COUNT: 5313
