FILENAME: O4810555.NWS.1139308.tif
QUADRANGLE_NAME: BADGER CREEK
QUADRANT: NW
WEST_LONGITUDE: -105 15 0.00000
EAST_LONGITUDE: -105 11 15.00000
NORTH_LATITUDE: 48 15 0.00000
SOUTH_LATITUDE: 48 11 15.00000
PRODUCTION_DATE: 2001 3 30
RASTER_ORDER: LEFT_RIGHT/TOP_BOTTOM
BAND_ORGANIZATION: SINGLE FILE
BAND_CONTENT: BLACK&WHITE
BAND_CONTENT: UNDEFINED
BAND_CONTENT: UNDEFINED
BITS_PER_PIXEL: 8
SAMPLES_AND_LINES: 5314 7573
HORIZONTAL_DATUM: NAD83
HORIZONTAL_COORDINATE_SYSTEM: UTM
COORDINATE_ZONE: 13
HORIZONTAL_UNITS: meters
HORIZONTAL_RESOLUTION: 1.00000
SECONDARY_HORIZONTAL_DATUM: NAD27
XY_ORIGIN: 481073.00000 5344425.00000
SECONDARY_XY_ORIGIN: 481112.45400 5344203.76700
NATION: US
STATE: MT
NW_QUAD_CORNER_XY: 481441.40900 5344117.50000
NE_QUAD_CORNER_XY: 486081.05500 5344104.28500
SE_QUAD_CORNERY_XY: 486064.10200 5337157.40800
SW_QUAD_CORNER_XY: 481418.80600 5337170.62600
SECONDARY_NW_QUAD_XY: 481440.82200 5343898.56800
SECONDARY_NE_QUAD_XY: 486080.61500 5343885.35200
SECONDARY_SE_QUAD_XY: 486063.66200 5336938.48700
SECONDARY_SW_QUAD_XY: 481418.21900 5336951.70600
RMSE_XY: 1.62000
IMAGE_SOURCE: BLACK AND WHITE FILM
SOURCE_IMAGE_ID: NAPP 10725-036
SOURCE_IMAGE_DATE: 1997 9 2
SOURCE_DEM_DATE: 1998 0 0
AGENCY: WESTERN MAPPING CENTER (WMC)
PRODUCER: WOOLPERT LLP
PRODUCTION_SYSTEM: INTERGRAPH ISPM, ISIR
COMPRESSION: UNDEFINED
STANDARD_VERSION: 1996 12
METADATA_DATE: 2001 3 30
DATA_FILE_SIZE: 40248236
BYTE_COUNT: 5314
