FILENAME: O4810556.SWS.1133005.tif
QUADRANGLE_NAME: POPLAR NE
QUADRANT: SW
WEST_LONGITUDE: -105 7 30.00000
EAST_LONGITUDE: -105 3 45.00000
NORTH_LATITUDE: 48 11 15.00000
SOUTH_LATITUDE: 48 7 30.00000
PRODUCTION_DATE: 2001 3 14
RASTER_ORDER: LEFT_RIGHT/TOP_BOTTOM
BAND_ORGANIZATION: SINGLE FILE
BAND_CONTENT: BLACK&WHITE
BAND_CONTENT: UNDEFINED
BAND_CONTENT: UNDEFINED
BITS_PER_PIXEL: 8
SAMPLES_AND_LINES: 5307 7566
HORIZONTAL_DATUM: NAD83
HORIZONTAL_COORDINATE_SYSTEM: UTM
COORDINATE_ZONE: 13
HORIZONTAL_UNITS: meters
HORIZONTAL_RESOLUTION: 1.00000
SECONDARY_HORIZONTAL_DATUM: NAD27
XY_ORIGIN: 490353.00000 5337456.00000
SECONDARY_XY_ORIGIN: 490392.42800 5337234.86000
NATION: US
STATE: MT
NW_QUAD_CORNER_XY: 490709.40100 5337147.96600
NE_QUAD_CORNER_XY: 495354.70000 5337142.30100
SE_QUAD_CORNERY_XY: 495349.05500 5330195.49600
SW_QUAD_CORNER_XY: 490698.11000 5330201.16200
SECONDARY_NW_QUAD_XY: 490709.10700 5336929.04500
SECONDARY_NE_QUAD_XY: 495354.55300 5336923.37900
SECONDARY_SE_QUAD_XY: 495348.90800 5329976.58700
SECONDARY_SW_QUAD_XY: 490697.81700 5329982.25400
RMSE_XY: 1.51000
IMAGE_SOURCE: BLACK AND WHITE FILM
SOURCE_IMAGE_ID: NAPP 9103-130
SOURCE_IMAGE_DATE: 1996 7 15
SOURCE_DEM_DATE: 1998 0 0
AGENCY: WESTERN MAPPING CENTER (WMC)
PRODUCER: WOOLPERT LLP
PRODUCTION_SYSTEM: INTERGRAPH ISPM, ISIR
COMPRESSION: UNDEFINED
STANDARD_VERSION: 1996 12
METADATA_DATE: 2001 3 15
DATA_FILE_SIZE: 40158069
BYTE_COUNT: 5307
