FILENAME: O4810556.NWS.1133003.tif
QUADRANGLE_NAME: POPLAR NE
QUADRANT: NW
WEST_LONGITUDE: -105 7 30.00000
EAST_LONGITUDE: -105 3 45.00000
NORTH_LATITUDE: 48 15 0.00000
SOUTH_LATITUDE: 48 11 15.00000
PRODUCTION_DATE: 2001 3 14
RASTER_ORDER: LEFT_RIGHT/TOP_BOTTOM
BAND_ORGANIZATION: SINGLE FILE
BAND_CONTENT: BLACK&WHITE
BAND_CONTENT: UNDEFINED
BAND_CONTENT: UNDEFINED
BITS_PER_PIXEL: 8
SAMPLES_AND_LINES: 5302 7566
HORIZONTAL_DATUM: NAD83
HORIZONTAL_COORDINATE_SYSTEM: UTM
COORDINATE_ZONE: 13
HORIZONTAL_UNITS: meters
HORIZONTAL_RESOLUTION: 1.00000
SECONDARY_HORIZONTAL_DATUM: NAD27
XY_ORIGIN: 490364.00000 5344403.00000
SECONDARY_XY_ORIGIN: 490403.39200 5344181.79800
NATION: US
STATE: MT
NW_QUAD_CORNER_XY: 490720.70200 5344094.84500
NE_QUAD_CORNER_XY: 495360.35100 5344089.18100
SE_QUAD_CORNERY_XY: 495354.70000 5337142.30100
SW_QUAD_CORNER_XY: 490709.40100 5337147.96600
SECONDARY_NW_QUAD_XY: 490720.40900 5343875.91200
SECONDARY_NE_QUAD_XY: 495360.20400 5343870.24800
SECONDARY_SE_QUAD_XY: 495354.55300 5336923.37900
SECONDARY_SW_QUAD_XY: 490709.10700 5336929.04500
RMSE_XY: 1.72000
IMAGE_SOURCE: BLACK AND WHITE FILM
SOURCE_IMAGE_ID: NAPP 9103-128
SOURCE_IMAGE_DATE: 1996 7 15
SOURCE_DEM_DATE: 1998 0 0
AGENCY: WESTERN MAPPING CENTER (WMC)
PRODUCER: WOOLPERT LLP
PRODUCTION_SYSTEM: INTERGRAPH ISPM, ISIR
COMPRESSION: UNDEFINED
STANDARD_VERSION: 1996 12
METADATA_DATE: 2001 3 15
DATA_FILE_SIZE: 40120234
BYTE_COUNT: 5302
