FILENAME: O4810556.NES.1133002.tif
QUADRANGLE_NAME: POPLAR NE
QUADRANT: NE
WEST_LONGITUDE: -105 3 45.00000
EAST_LONGITUDE: -105 0 0.00000
NORTH_LATITUDE: 48 15 0.00000
SOUTH_LATITUDE: 48 11 15.00000
PRODUCTION_DATE: 2001 3 14
RASTER_ORDER: LEFT_RIGHT/TOP_BOTTOM
BAND_ORGANIZATION: SINGLE FILE
BAND_CONTENT: BLACK&WHITE
BAND_CONTENT: UNDEFINED
BAND_CONTENT: UNDEFINED
BITS_PER_PIXEL: 8
SAMPLES_AND_LINES: 5295 7562
HORIZONTAL_DATUM: NAD83
HORIZONTAL_COORDINATE_SYSTEM: UTM
COORDINATE_ZONE: 13
HORIZONTAL_UNITS: meters
HORIZONTAL_RESOLUTION: 1.00000
SECONDARY_HORIZONTAL_DATUM: NAD27
XY_ORIGIN: 495010.00000 5344397.00000
SECONDARY_XY_ORIGIN: 495049.36200 5344175.80800
NATION: US
STATE: MT
NW_QUAD_CORNER_XY: 495360.35100 5344089.18100
NE_QUAD_CORNER_XY: 500000.00000 5344087.29300
SE_QUAD_CORNERY_XY: 500000.00000 5337140.41200
SW_QUAD_CORNER_XY: 495354.70000 5337142.30100
SECONDARY_NW_QUAD_XY: 495360.20400 5343870.24800
SECONDARY_NE_QUAD_XY: 500000.00000 5343868.36000
SECONDARY_SE_QUAD_XY: 500000.00000 5336921.49100
SECONDARY_SW_QUAD_XY: 495354.55300 5336923.37900
RMSE_XY: 1.65000
IMAGE_SOURCE: BLACK AND WHITE FILM
SOURCE_IMAGE_ID: NAPP 9096-166
SOURCE_IMAGE_DATE: 1996 7 9
SOURCE_DEM_DATE: 1998 0 0
AGENCY: WESTERN MAPPING CENTER (WMC)
PRODUCER: WOOLPERT LLP
PRODUCTION_SYSTEM: INTERGRAPH ISPM, ISIR
COMPRESSION: UNDEFINED
STANDARD_VERSION: 1996 12
METADATA_DATE: 2001 3 15
DATA_FILE_SIZE: 40046085
BYTE_COUNT: 5295
