FILENAME: O4810557.SES.1139241.tif
QUADRANGLE_NAME: OSWEGO
QUADRANT: SE
WEST_LONGITUDE: -105 56 15.00000
EAST_LONGITUDE: -105 52 30.00000
NORTH_LATITUDE: 48 3 45.00000
SOUTH_LATITUDE: 48 0 0.00000
PRODUCTION_DATE: 2001 4 4
RASTER_ORDER: LEFT_RIGHT/TOP_BOTTOM
BAND_ORGANIZATION: SINGLE FILE
BAND_CONTENT: BLACK&WHITE
BAND_CONTENT: UNDEFINED
BAND_CONTENT: UNDEFINED
BITS_PER_PIXEL: 8
SAMPLES_AND_LINES: 5395 7615
HORIZONTAL_DATUM: NAD83
HORIZONTAL_COORDINATE_SYSTEM: UTM
COORDINATE_ZONE: 13
HORIZONTAL_UNITS: meters
HORIZONTAL_RESOLUTION: 1.00000
SECONDARY_HORIZONTAL_DATUM: NAD27
XY_ORIGIN: 429719.00000 5323980.00000
SECONDARY_XY_ORIGIN: 429759.20200 5323758.61800
NATION: US
STATE: MT
NW_QUAD_CORNER_XY: 430151.55500 5323671.98000
NE_QUAD_CORNER_XY: 434808.07800 5323617.18700
SE_QUAD_CORNERY_XY: 434729.19600 5316670.61800
SW_QUAD_CORNER_XY: 430067.03800 5316725.42400
SECONDARY_NW_QUAD_XY: 430149.35400 5323453.09800
SECONDARY_NE_QUAD_XY: 434806.02400 5323398.30400
SECONDARY_SE_QUAD_XY: 434727.14200 5316451.74900
SECONDARY_SW_QUAD_XY: 430064.83700 5316506.55600
RMSE_XY: 2.15000
IMAGE_SOURCE: BLACK AND WHITE FILM
SOURCE_IMAGE_ID: NAPP 9088-107
SOURCE_IMAGE_DATE: 1996 7 7
SOURCE_DEM_DATE: 1998 0 0
AGENCY: WESTERN MAPPING CENTER (WMC)
PRODUCER: WOOLPERT LLP
PRODUCTION_SYSTEM: INTERGRAPH ISPM, ISIR
COMPRESSION: UNDEFINED
STANDARD_VERSION: 1996 12
METADATA_DATE: 2001 4 4
DATA_FILE_SIZE: 41088320
BYTE_COUNT: 5395
