FILENAME: O4810557.NWS.1139240.tif
QUADRANGLE_NAME: OSWEGO
QUADRANT: NW
WEST_LONGITUDE: -106 0 0.00000
EAST_LONGITUDE: -105 56 15.00000
NORTH_LATITUDE: 48 7 30.00000
SOUTH_LATITUDE: 48 3 45.00000
PRODUCTION_DATE: 2001 4 4
RASTER_ORDER: LEFT_RIGHT/TOP_BOTTOM
BAND_ORGANIZATION: SINGLE FILE
BAND_CONTENT: BLACK&WHITE
BAND_CONTENT: UNDEFINED
BAND_CONTENT: UNDEFINED
BITS_PER_PIXEL: 8
SAMPLES_AND_LINES: 5395 7619
HORIZONTAL_DATUM: NAD83
HORIZONTAL_COORDINATE_SYSTEM: UTM
COORDINATE_ZONE: 13
HORIZONTAL_UNITS: meters
HORIZONTAL_RESOLUTION: 1.00000
SECONDARY_HORIZONTAL_DATUM: NAD27
XY_ORIGIN: 425147.00000 5330985.00000
SECONDARY_XY_ORIGIN: 425187.17700 5330763.43600
NATION: US
STATE: MT
NW_QUAD_CORNER_XY: 425585.28200 5330677.16900
NE_QUAD_CORNER_XY: 430236.15500 5330618.61000
SE_QUAD_CORNERY_XY: 430151.55500 5323671.98000
SW_QUAD_CORNER_XY: 425495.04000 5323730.55200
SECONDARY_NW_QUAD_XY: 425582.93400 5330458.27500
SECONDARY_NE_QUAD_XY: 430233.95400 5330399.71500
SECONDARY_SE_QUAD_XY: 430149.35400 5323453.09800
SECONDARY_SW_QUAD_XY: 425492.69200 5323511.67200
RMSE_XY: 1.24000
IMAGE_SOURCE: BLACK AND WHITE FILM
SOURCE_IMAGE_ID: NAPP 9088-153
SOURCE_IMAGE_DATE: 1996 7 7
SOURCE_DEM_DATE: 1998 0 0
AGENCY: WESTERN MAPPING CENTER (WMC)
PRODUCER: WOOLPERT LLP
PRODUCTION_SYSTEM: INTERGRAPH ISPM, ISIR
COMPRESSION: UNDEFINED
STANDARD_VERSION: 1996 12
METADATA_DATE: 2001 4 4
DATA_FILE_SIZE: 41109900
BYTE_COUNT: 5395
