FILENAME: O4810557.NES.1139239.tif
QUADRANGLE_NAME: OSWEGO
QUADRANT: NE
WEST_LONGITUDE: -105 56 15.00000
EAST_LONGITUDE: -105 52 30.00000
NORTH_LATITUDE: 48 7 30.00000
SOUTH_LATITUDE: 48 3 45.00000
PRODUCTION_DATE: 2001 4 4
RASTER_ORDER: LEFT_RIGHT/TOP_BOTTOM
BAND_ORGANIZATION: SINGLE FILE
BAND_CONTENT: BLACK&WHITE
BAND_CONTENT: UNDEFINED
BAND_CONTENT: UNDEFINED
BITS_PER_PIXEL: 8
SAMPLES_AND_LINES: 5389 7615
HORIZONTAL_DATUM: NAD83
HORIZONTAL_COORDINATE_SYSTEM: UTM
COORDINATE_ZONE: 13
HORIZONTAL_UNITS: meters
HORIZONTAL_RESOLUTION: 1.00000
SECONDARY_HORIZONTAL_DATUM: NAD27
XY_ORIGIN: 429804.00000 5330927.00000
SECONDARY_XY_ORIGIN: 429844.12800 5330705.48100
NATION: US
STATE: MT
NW_QUAD_CORNER_XY: 430236.15500 5330618.61000
NE_QUAD_CORNER_XY: 434887.03800 5330563.83000
SE_QUAD_CORNERY_XY: 434808.07800 5323617.18700
SW_QUAD_CORNER_XY: 430151.55500 5323671.98000
SECONDARY_NW_QUAD_XY: 430233.95400 5330399.71500
SECONDARY_NE_QUAD_XY: 434884.98400 5330344.93300
SECONDARY_SE_QUAD_XY: 434806.02400 5323398.30400
SECONDARY_SW_QUAD_XY: 430149.35400 5323453.09800
RMSE_XY: 1.76000
IMAGE_SOURCE: BLACK AND WHITE FILM
SOURCE_IMAGE_ID: NAPP 9088-109
SOURCE_IMAGE_DATE: 1996 7 7
SOURCE_DEM_DATE: 1998 0 0
AGENCY: WESTERN MAPPING CENTER (WMC)
PRODUCER: WOOLPERT LLP
PRODUCTION_SYSTEM: INTERGRAPH ISPM, ISIR
COMPRESSION: UNDEFINED
STANDARD_VERSION: 1996 12
METADATA_DATE: 2001 4 4
DATA_FILE_SIZE: 41042624
BYTE_COUNT: 5389
