FILENAME: O4810558.SWS.1139254.tif
QUADRANGLE_NAME: FLYNN CREEK SOUTH
QUADRANT: SW
WEST_LONGITUDE: -105 52 30.00000
EAST_LONGITUDE: -105 48 45.00000
NORTH_LATITUDE: 48 3 45.00000
SOUTH_LATITUDE: 48 0 0.00000
PRODUCTION_DATE: 2001 4 4
RASTER_ORDER: LEFT_RIGHT/TOP_BOTTOM
BAND_ORGANIZATION: SINGLE FILE
BAND_CONTENT: BLACK&WHITE
BAND_CONTENT: UNDEFINED
BAND_CONTENT: UNDEFINED
BITS_PER_PIXEL: 8
SAMPLES_AND_LINES: 5389 7611
HORIZONTAL_DATUM: NAD83
HORIZONTAL_COORDINATE_SYSTEM: UTM
COORDINATE_ZONE: 13
HORIZONTAL_UNITS: meters
HORIZONTAL_RESOLUTION: 1.00000
SECONDARY_HORIZONTAL_DATUM: NAD27
XY_ORIGIN: 434381.00000 5323925.00000
SECONDARY_XY_ORIGIN: 434421.15300 5323703.65700
NATION: US
STATE: MT
NW_QUAD_CORNER_XY: 434808.07800 5323617.18700
NE_QUAD_CORNER_XY: 439464.61000 5323566.17400
SE_QUAD_CORNERY_XY: 439391.36300 5316619.59300
SW_QUAD_CORNER_XY: 434729.19600 5316670.61800
SECONDARY_NW_QUAD_XY: 434806.02400 5323398.30400
SECONDARY_NE_QUAD_XY: 439462.70200 5323347.28900
SECONDARY_SE_QUAD_XY: 439389.45600 5316400.72300
SECONDARY_SW_QUAD_XY: 434727.14200 5316451.74900
RMSE_XY: 2.29000
IMAGE_SOURCE: BLACK AND WHITE FILM
SOURCE_IMAGE_ID: NAPP 11001-012
SOURCE_IMAGE_DATE: 1998 7 15
SOURCE_IMAGE_ID: NAPP 11001-011
SOURCE_IMAGE_DATE: 1998 7 15
SOURCE_DEM_DATE: 1998 0 0
AGENCY: WESTERN MAPPING CENTER (WMC)
PRODUCER: WOOLPERT LLP
PRODUCTION_SYSTEM: INTERGRAPH ISPM, ISIR
COMPRESSION: UNDEFINED
STANDARD_VERSION: 1996 12
METADATA_DATE: 2001 4 20
DATA_FILE_SIZE: 41021068
BYTE_COUNT: 5389
